BEGIN:VCALENDAR
VERSION:2.0
PRODID:-//ChamberMaster//Event Calendar 2.0//EN
METHOD:PUBLISH
X-PUBLISHED-TTL:P3D
REFRESH-INTERVAL:P3D
CALSCALE:GREGORIAN
BEGIN:VEVENT
DTSTART:20180326T140000Z
DTEND:20180326T210000Z
X-MICROSOFT-CDO-ALLDAYEVENT:FALSE
SUMMARY:Pie Sale
DESCRIPTION:A delicious variety of pies and cheesecakes to choose from. Plus\, take this opportunity to help us decide which bank officer will take a pie to the face. All proceeds go to our Relay for Life Team.
X-ALT-DESC;FMTTYPE=text/html:A delicious variety of pies and cheesecakes to choose from. Plus\, take this opportunity to help us decide which bank officer will take a pie to the face. All proceeds go to our Relay for Life Team.
LOCATION:Security State Bank
UID:e.314.43911
SEQUENCE:3
DTSTAMP:20260424T012121Z
URL:https://business.fergusfalls.com/events/details/pie-sale-43911
END:VEVENT

END:VCALENDAR
