BEGIN:VCALENDAR
VERSION:2.0
PRODID:-//ChamberMaster//Event Calendar 2.0//EN
METHOD:PUBLISH
X-PUBLISHED-TTL:P3D
REFRESH-INTERVAL:P3D
CALSCALE:GREGORIAN
BEGIN:VEVENT
DTSTART:20171029T153000Z
DTEND:20171029T163000Z
X-MICROSOFT-CDO-ALLDAYEVENT:FALSE
SUMMARY:Pie Social at Federated Church
DESCRIPTION:The Fellowship Committee invites the congregation to the Annual Pie Social\, October 29th after worship. Signup sheets will be placed on the tables in the fellowship hall. Please consider signing up and bringing a pie to share! Can't wait to try all the pies! The Fellowship Committee looks forward to fun fellowship with our church family!
X-ALT-DESC;FMTTYPE=text/html:<span class="_4n-j _3cht fsl" data-testid="event-permalink-details">The Fellowship Committee invites the congregation to the Annual Pie Social\, October 29th after worship. Signup sheets will be placed on the tables in the fellowship hall. Please consider signing up and bringing a pie to share! Can&rsquo\;t wait to try all the pies! The Fellowship Committee looks forward to fun fellowship with our church family!</span>
LOCATION:
UID:e.314.42868
SEQUENCE:3
DTSTAMP:20260424T105900Z
URL:https://business.fergusfalls.com/events/details/pie-social-at-federated-church-42868
END:VEVENT

END:VCALENDAR
