BEGIN:VCALENDAR
VERSION:2.0
PRODID:-//ChamberMaster//Event Calendar 2.0//EN
METHOD:PUBLISH
X-PUBLISHED-TTL:P3D
REFRESH-INTERVAL:P3D
CALSCALE:GREGORIAN
BEGIN:VEVENT
DTSTART:20180611T160000Z
DTEND:20180612T030000Z
X-MICROSOFT-CDO-ALLDAYEVENT:FALSE
SUMMARY:Pie Society Monday
DESCRIPTION:Enjoy a FREE slice of pie every Monday at Perkins Restaurant & Bakery from 11 am - 10 pm with the purchase of an adult antree. \n\n\n\nSee store for details
X-ALT-DESC;FMTTYPE=text/html:Enjoy a FREE slice of pie every Monday at Perkins Restaurant &amp\; Bakery from 11 am - 10 pm with the purchase of an adult antree.&nbsp\;<br />\n<br />\nSee store for details
LOCATION:Perkins Restaurant & Bakery in Fergus Falls\, MN
UID:e.314.17629
SEQUENCE:3
DTSTAMP:20260423T212655Z
URL:https://business.fergusfalls.com/events/details/pie-society-monday-06-11-2018-17629
END:VEVENT

END:VCALENDAR
