BEGIN:VCALENDAR
VERSION:2.0
PRODID:-//ChamberMaster//Event Calendar 2.0//EN
METHOD:PUBLISH
X-PUBLISHED-TTL:P3D
REFRESH-INTERVAL:P3D
CALSCALE:GREGORIAN
BEGIN:VEVENT
DTSTART:20170101T020000Z
DTEND:20170101T050000Z
X-MICROSOFT-CDO-ALLDAYEVENT:FALSE
SUMMARY:Ping Pong Tournament - Union Pizza-
DESCRIPTION:Union Pizza \nUnion Pizza and Brewing Co. on Union Ave. in Fergus Falls will be open during its regular lunch hours from 11 a.m. to 1 p.m. on Saturday and reopening at 4 p.m. \n\nStarting at 8 p.m.\, the kitchen will close and the games will begin.\n\nA ping pong tournament along with other family games will be available and some prizes will be given away\, owner Ben Schierer said.\n\nPeople are encouraged to bring their own board games to play if they would like.  The activities will continue through the night and will ring in the new year.
X-ALT-DESC;FMTTYPE=text/html:<strong>&nbsp\;Union Pizza </strong>\n<p class="p1"><span class="s2">Union Pizza and Brewing Co. on Union Ave. in Fergus Falls will be open during its regular lunch hours from 11 a.m. to 1 p.m. on Saturday and reopening at 4 p.m. </span></p>\n\n<p class="p1"><span class="s2">Starting at 8 p.m.\, the kitchen will close and the games will begin.</span></p>\n\n<p class="p1"><span class="s2">A ping pong tournament along with other family games will be available and some prizes will be given away\, owner Ben Schierer said.</span></p>\n\n<p class="p1"><span class="s2">People are encouraged to bring their own board games to play if they would like.<span>&nbsp\; </span>The activities will continue through the night and will ring in the new year.</span></p>\n
LOCATION:
UID:e.314.37403
SEQUENCE:3
DTSTAMP:20260425T022030Z
URL:https://business.fergusfalls.com/events/details/ping-pong-tournament-union-pizza-37403
END:VEVENT

END:VCALENDAR
