BEGIN:VCALENDAR
VERSION:2.0
PRODID:-//ChamberMaster//Event Calendar 2.0//EN
METHOD:PUBLISH
X-PUBLISHED-TTL:P3D
REFRESH-INTERVAL:P3D
CALSCALE:GREGORIAN
BEGIN:VEVENT
DTSTART:20160220T190000Z
DTEND:20160220T230000Z
X-MICROSOFT-CDO-ALLDAYEVENT:FALSE
SUMMARY:Pink-Out for Team Ashley
DESCRIPTION:Wear pink and get in free to the Spartan's Men and Women basketball games Saturday February 20.\n\n\n\nGames are at 1:00 and at 3:00 PM at the Spartan Gym on the M State Fergus Falls campus.\n\n\n\nAt age 24 Ashley Mergens (daughter of M State employee Brenda Mergens) has graduated with a master's degree in speech language pathology and recently got engaged. Seems like a pretty normal life. However\, not so normal\, she was diagnosed with breast cancer in July 2015. She has completed chemo\, had a double mastectomy and is now preparing for radiation treatments. She has an incredible team of doctors\, friends and family who are supporting her through this journey. Please join us to support Ashley by attending the games at M State on February 20th and remember to wear PINK!
X-ALT-DESC;FMTTYPE=text/html:<strong><span style="font-size:16px">Wear pink and get in free to the Spartan&#39\;s Men and Women basketball games Saturday February 20.</span><br />\n<br />\nGames are at 1:00 and at 3:00 PM at the Spartan Gym on the M State Fergus Falls campus.</strong><br />\n<br />\nAt age 24 Ashley Mergens (daughter of M State employee Brenda Mergens) has graduated with a master&#39\;s degree in speech language pathology and recently got engaged. Seems like a pretty normal life. However\, not so normal\, she was diagnosed with breast cancer in July 2015. She has completed chemo\, had a double mastectomy and is now preparing for radiation treatments. She has an incredible team of doctors\, friends and family who are supporting her through this journey. Please join us to support Ashley by attending the games at M State on February 20th and remember to wear PINK!
LOCATION:Spartan Gym on the M State Fergus Falls campus\, 1414 College Way\, Fergus Falls\, MN
UID:e.314.31315
SEQUENCE:3
DTSTAMP:20260425T214904Z
URL:https://business.fergusfalls.com/events/details/pink-out-for-team-ashley-02-20-2016-31315
END:VEVENT

END:VCALENDAR
