BEGIN:VCALENDAR
VERSION:2.0
PRODID:-//ChamberMaster//Event Calendar 2.0//EN
METHOD:PUBLISH
X-PUBLISHED-TTL:P3D
REFRESH-INTERVAL:P3D
CALSCALE:GREGORIAN
BEGIN:VEVENT
DTSTART:20151031T230000Z
DTEND:20151101T000000Z
X-MICROSOFT-CDO-ALLDAYEVENT:FALSE
SUMMARY:PioneerCare Trick or Treat
DESCRIPTION:PioneerCare will be hosting little ones for Trick-or-Treat again this year\, following the theme of the board game\, "Candyland" in PioneerCare's Celebration Center. Children are welcome to visit with care center residents from 6:00 pm to 7:00 pm. The main entrance to the building\, under the canopy facing Mabelle Avenue\, will be open for Trick-or-Treaters during that time. For details\, contact PioneerCare at 218.998.1500
X-ALT-DESC;FMTTYPE=text/html:PioneerCare will be hosting little ones for Trick-or-Treat again this year\, following the theme of the board game\, &ldquo\;Candyland&rdquo\; in PioneerCare&rsquo\;s Celebration Center. Children are welcome to visit with care center residents from 6:00 pm to 7:00 pm. The main entrance to the building\, under the canopy facing Mabelle Avenue\,&nbsp\;will be open for Trick-or-Treaters during that time. For details\, contact PioneerCare at&nbsp\;218.998.1500
LOCATION:1131 S. Mabelle Ave. Fergus Falls
UID:e.314.25984
SEQUENCE:3
DTSTAMP:20260426T030308Z
URL:https://business.fergusfalls.com/events/details/pioneercare-trick-or-treat-10-31-2015-25984
END:VEVENT

END:VCALENDAR
