BEGIN:VCALENDAR
VERSION:2.0
PRODID:-//ChamberMaster//Event Calendar 2.0//EN
METHOD:PUBLISH
X-PUBLISHED-TTL:P3D
REFRESH-INTERVAL:P3D
CALSCALE:GREGORIAN
BEGIN:VEVENT
DTSTART:20161201T010000Z
DTEND:20161201T020000Z
X-MICROSOFT-CDO-ALLDAYEVENT:FALSE
SUMMARY:PIP art Q&A
DESCRIPTION:PIP = participatory interactive performance created by the Hinge Arts Artist-in-Residence\, sponsored by Springboard. What is that? You ask. Come to the Studio space behind the Kaddatz and find out. The artist will be in. Available to answer questions and invite participation. Find your JOY here. If you would like to explore ways to express yourself through art\, look here. On Dec. 10 during the Holiday Art crawl there will be three locations where you can be part of the fun\, including a parade walk down the river with Saint Lucia.
X-ALT-DESC;FMTTYPE=text/html:PIP = participatory interactive performance created by the Hinge Arts Artist-in-Residence\, sponsored by Springboard. What is that? You ask. Come to the Studio space behind the Kaddatz and find out. The artist will be in. Available to answer questions and invite participation. Find your JOY here. If you would like to explore ways to express yourself through art\, look here. On Dec. 10 during the Holiday Art crawl there will be three locations where you can be part of the fun\, including a parade walk down the river with Saint Lucia.
LOCATION:Studio at the back of the Kaddatz Gallery
UID:e.314.37006
SEQUENCE:3
DTSTAMP:20260425T035606Z
URL:https://business.fergusfalls.com/events/details/pip-art-q-a-37006
END:VEVENT

END:VCALENDAR
