BEGIN:VCALENDAR
VERSION:2.0
PRODID:-//ChamberMaster//Event Calendar 2.0//EN
METHOD:PUBLISH
X-PUBLISHED-TTL:P3D
REFRESH-INTERVAL:P3D
CALSCALE:GREGORIAN
BEGIN:VEVENT
DTSTART:20240919T233000Z
DTEND:20240920T013000Z
X-MICROSOFT-CDO-ALLDAYEVENT:FALSE
SUMMARY:Pirate Trivia
DESCRIPTION:Pirate Trivia at Fergus Brewing
X-ALT-DESC;FMTTYPE=text/html:Pirate Trivia at Fergus Brewing
LOCATION:Fergus Brewing 1683 Ottertail Dr Fergus Falls\, MN
UID:e.314.72247
SEQUENCE:3
DTSTAMP:20260421T083023Z
URL:https://business.fergusfalls.com/events/details/pirate-trivia-72247
END:VEVENT

END:VCALENDAR
