BEGIN:VCALENDAR
VERSION:2.0
PRODID:-//ChamberMaster//Event Calendar 2.0//EN
METHOD:PUBLISH
X-PUBLISHED-TTL:P3D
REFRESH-INTERVAL:P3D
CALSCALE:GREGORIAN
BEGIN:VEVENT
DTSTART:20190506T210000Z
DTEND:20190507T030000Z
X-MICROSOFT-CDO-ALLDAYEVENT:FALSE
SUMMARY:Pitcher Night w/App Specials
DESCRIPTION:Union Pizza & Brewing Co\n\nPitcher Night w/App Specials
X-ALT-DESC;FMTTYPE=text/html:Union Pizza &amp\; Brewing Co<br>\nPitcher Night w/App Specials
LOCATION:114 S Union Ave Fergus Falls
UID:e.314.26222
SEQUENCE:3
DTSTAMP:20260423T063026Z
URL:https://business.fergusfalls.com/events/details/pitcher-night-w-app-specials-05-06-2019-26222
END:VEVENT

END:VCALENDAR
