BEGIN:VCALENDAR
VERSION:2.0
PRODID:-//ChamberMaster//Event Calendar 2.0//EN
METHOD:PUBLISH
X-PUBLISHED-TTL:P3D
REFRESH-INTERVAL:P3D
CALSCALE:GREGORIAN
BEGIN:VEVENT
DTSTART:20180417T160000Z
DTEND:20180417T220000Z
X-MICROSOFT-CDO-ALLDAYEVENT:FALSE
SUMMARY:Pizza & Pre-planning Seminar
DESCRIPTION:Pizza & Pre-Planning Seminar\n\n\n\nWe invite you to join us for pizza as we combine 90 minutes of education\, a bit of humor\, and time to answer your questions. Andrew Yaggie\, Licensed Funeral Director\, will share 10 things you need to know about funeral snd cremation. He will also discuss recent changes to state medical assistance and local county funeral expense policies\, allowing you to protect your loved ones and to ensure provisions are made for the funeral ceremony of your choice.\n\n\n\nRecognizing that funeral planning can be intimidating for many\, this casual seminar is a great first step in the process\, and will allow you an opportunity to get REAL answers to any questions you may have.
X-ALT-DESC;FMTTYPE=text/html:Pizza &amp\; Pre-Planning Seminar<br />\n<br />\n<span class="_4n-j _3cht fsl" data-testid="event-permalink-details">We invite you to join us for pizza as we combine 90 minutes of education\, a bit of humor\, and time to answer your questions. Andrew Yaggie\, Licensed Funeral Director\, will share 10 things you need to know about funeral snd cremation. He will also discuss recent changes to state medical assistance and local county funeral expense policies\, allowing you to protect your loved ones and to ensure provisions are made for the funeral ceremony of your choice.<br />\n<br />\nRecognizing that funeral planning can be intimidating for many\, this casual seminar is a great first step in the process\, and will allow you an opportunity to get REAL answers to any questions you may have.</span>
LOCATION:Glende-Nilson Funeral Homes 301 E Washington Ave Fergus Falls
UID:e.314.43930
SEQUENCE:3
DTSTAMP:20260423T235158Z
URL:https://business.fergusfalls.com/events/details/pizza-pre-planning-seminar-43930
END:VEVENT

END:VCALENDAR
