BEGIN:VCALENDAR
VERSION:2.0
PRODID:-//ChamberMaster//Event Calendar 2.0//EN
METHOD:PUBLISH
X-PUBLISHED-TTL:P3D
REFRESH-INTERVAL:P3D
CALSCALE:GREGORIAN
BEGIN:VEVENT
DTSTART:20151027T160000Z
DTEND:20151027T230000Z
X-MICROSOFT-CDO-ALLDAYEVENT:FALSE
SUMMARY:Pizza & Preplanning
DESCRIPTION:The staff of Glende-Nilson Funeral Home invite you to attend: \n\n\n\nPizza & Preplanning\n\nTues Oct 27th\n\n11am-6pm\n\nGlende-Nilson Funeral Home\n\n301 Washington Ave East\n\n\n\nCome and enjoy free pizza and hear about the Top 10 things you need to know about funeral planning in order to protect your family in the future.\n\nYou will be able to enter a door prize drawing and receive a FREE information packet to take home.\n\n\n\nAdvance registration is required to assist in preparations.\n\nPlease call 218-736-7064 or email info@glendenilson.com
X-ALT-DESC;FMTTYPE=text/html:<strong>The staff of Glende-Nilson Funeral Home invite you to attend: </strong><br />\n<br />\n<strong>Pizza &amp\; Preplanning<br />\nTues Oct 27th<br />\n11am-6pm<br />\nGlende-Nilson Funeral Home<br />\n301 Washington Ave East</strong><br />\n<br />\nCome and enjoy free pizza and hear about the Top 10 things you need to know about funeral planning in order to protect your family in the future.<br />\nYou will be able to enter a door prize drawing and receive a FREE information packet to take home.<br />\n<br />\nAdvance registration is required to assist in preparations.<br />\nPlease call 218-736-7064 or email <a href="mailto:info@glendenilson.com">info@glendenilson.com</a>
LOCATION:Glende-Nilson Funeral Home 301 Washington Ave East
UID:e.314.24641
SEQUENCE:3
DTSTAMP:20260426T025043Z
URL:https://business.fergusfalls.com/events/details/pizza-preplanning-10-27-2015-24641
END:VEVENT

END:VCALENDAR
