BEGIN:VCALENDAR
VERSION:2.0
PRODID:-//ChamberMaster//Event Calendar 2.0//EN
METHOD:PUBLISH
X-PUBLISHED-TTL:P3D
REFRESH-INTERVAL:P3D
CALSCALE:GREGORIAN
BEGIN:VEVENT
DTSTART:20161125T140000Z
DTEND:20161126T020000Z
X-MICROSOFT-CDO-ALLDAYEVENT:FALSE
SUMMARY:Plaid Day @ The Market
DESCRIPTION:Wear Plaid into the store and receive a coupon for 20% off one regular priced in stock item.\n\nEnjoy apple cider while you shop.\n\nDrawings! Door Prizes! Samples.\n\nDiscounts throughout the store!\n\nFree Gift Wrapping
X-ALT-DESC;FMTTYPE=text/html:Wear Plaid into the store and receive a coupon for 20% off one regular priced in stock item.<br />\nEnjoy apple cider while you shop.<br />\nDrawings! Door Prizes! Samples.<br />\nDiscounts throughout the store!<br />\nFree Gift Wrapping
LOCATION:The Market 120 S Union Ave
UID:e.314.36996
SEQUENCE:3
DTSTAMP:20260425T040504Z
URL:https://business.fergusfalls.com/events/details/plaid-day-the-market-36996
END:VEVENT

END:VCALENDAR
