BEGIN:VCALENDAR
VERSION:2.0
PRODID:-//ChamberMaster//Event Calendar 2.0//EN
METHOD:PUBLISH
X-PUBLISHED-TTL:P3D
REFRESH-INTERVAL:P3D
CALSCALE:GREGORIAN
BEGIN:VEVENT
DTSTART:20190330T210000Z
DTEND:20190330T230000Z
X-MICROSOFT-CDO-ALLDAYEVENT:FALSE
SUMMARY:Planting with the Pros
DESCRIPTION:Are you anxious to get your hands dirty but the ground is still frozen?  Come and join us for "Planting with the Pros" a great opportunity for you to plant your own containers!  We will furnish everything for you to create a 14" basket or planter that you will enjoy all season your own piece of art. Our plant experts will help you select the perfect combination of colors\, flowers\, accents for your sunny or shady area.\n\nAfter you've created your masterpiece\, join us for some refreshments and shop in our expanded selection of fresh\, new home and garden decor.\n\nCome on in anytime during "Planting with the Pros."  We even care for your creation in our warm greenhouses until May 20th. You will be amazed at how beautiful your plants are!
X-ALT-DESC;FMTTYPE=text/html:<span style="color:#000000"><span style="font-size:14px">Are you anxious to get your hands dirty but the ground is still frozen?&nbsp\;&nbsp\;Come and join us for &ldquo\;Planting with the Pros&rdquo\;&mdash\;a great opportunity for you to plant your own containers!&nbsp\;&nbsp\;We will furnish everything for you to create a 14&rdquo\; basket or planter that you will enjoy all season&hellip\;your own piece of art. Our plant experts will help you select the perfect combination of colors\, flowers\, accents for your sunny or shady area.</span><br />\n<span style="font-size:14px">After you&rsquo\;ve created your masterpiece\, join us for some refreshments and shop in our expanded selection of fresh\, new home and garden decor.</span><br />\n<span style="font-family:helvetica\,arial\,sans-serif\; font-size:14px">Come on in anytime during &quot\;Planting with the Pros.&quot\;&nbsp\; We even care for your creation in our warm greenhouses until May 20th. You will be amazed at how beautiful your plants are!</span></span>
LOCATION:Nature's Garden World 1335 E. Highway 210 Fergus Falls\, MN 56537
UID:e.314.52817
SEQUENCE:3
DTSTAMP:20260423T080332Z
URL:https://business.fergusfalls.com/events/details/planting-with-the-pros-03-30-2019-52817
END:VEVENT

END:VCALENDAR
