BEGIN:VCALENDAR
VERSION:2.0
PRODID:-//ChamberMaster//Event Calendar 2.0//EN
METHOD:PUBLISH
X-PUBLISHED-TTL:P3D
REFRESH-INTERVAL:P3D
CALSCALE:GREGORIAN
BEGIN:VEVENT
DTSTART:20160401T210000Z
DTEND:20160401T230000Z
X-MICROSOFT-CDO-ALLDAYEVENT:FALSE
SUMMARY:"Planting with the Pros"
DESCRIPTION:Are you anxious to get your hands dirty but the ground is still frozen?  Come and join us for "Planting with the Pros" a great opportunity for you to plant your own containers!  We will furnish everything for you to create a 14" basket or planter that you will enjoy all season your own piece of art. \n\nTwo days to choose from:\n\nFriday\, April 1st  from 4-6pm.  Also after the Fergus Falls Garden Days on Saturday April 2nd from 4-6pm.  After you've created your masterpiece\, join us for some refreshments.\n\nThe cost is $42.00 and includes a maximum of 7 plants.  Included is a $5.00 gift card to use on your next visit to Natures Garden World.  By creating your own masterpiece and furnishing the labor\, you will be saving $5.00 off our regular price.\n\n  Baskets will be available for pickup on or before May 20th.\n\nPre-registrations preferred: 218-739-9641\n\nI hope to see you in the greenhouse!
X-ALT-DESC;FMTTYPE=text/html:<p class="MsoNormal" style="margin: 0in 0in 0pt\;"><span style="font-family: times new roman\;"><span style="font-size: 12px\;"><font color="#000000">Are you anxious to get your hands dirty but the ground is still frozen?<span style="mso-spacerun: yes\;">&nbsp\; </span>Come and join us for &ldquo\;Planting with the Pros&rdquo\;&mdash\;a great opportunity for you to plant your own containers!<span style="mso-spacerun: yes\;">&nbsp\; </span>We will furnish everything for you to create a 14&rdquo\; basket or planter that you will enjoy all season&hellip\;your own piece of art.&nbsp\;<br />\nTwo days to choose from:</font></span></span></p>\n\n<p class="MsoNormal" style="margin: 0in 0in 0pt\;"><span style="font-family: times new roman\;"><span style="font-size: 12px\;"><font color="#000000">Friday\, April 1st&nbsp\;<span style="mso-spacerun: yes\;">&nbsp\;</span>from 4-6pm.<span style="mso-spacerun: yes\;">&nbsp\; </span>Also after the Fergus Falls Garden Days on Saturday April 2nd&nbsp\;from 4-6pm.<span style="mso-spacerun: yes\;">&nbsp\; </span>After you&rsquo\;ve created your masterpiece\, join us for some refreshments.</font></span></span><span style="font-size: 18pt\;"><font color="#000000"><font face="Times New Roman"><o:p></o:p></font></font></span></p>\n\n<p class="MsoNormal" style="margin: 0in 0in 0pt\;"><span style="font-family: times new roman\;"><span style="font-size: 12px\;"><font color="#000000">The cost is $42.00 and includes a maximum of 7 plants.<span style="mso-spacerun: yes\;">&nbsp\; </span>Included is a $5.00 gift card to use on your next visit to Natures Garden World.<span style="mso-spacerun: yes\;">&nbsp\; </span>By creating your own masterpiece and furnishing the labor\, you will be saving $5.00 off our regular price.</font></span></span><span style="font-size: 18pt\;"><font color="#000000"><font face="Times New Roman"><o:p></o:p></font></font></span></p>\n\n<p class="MsoNormal" style="margin: 0in 0in 0pt\;"><span style="font-family: times new roman\;"><span style="font-size: 12px\;"><font color="#000000"><span style="mso-spacerun: yes\;">&nbsp\; </span>Baskets will be available for pickup on or before May 20<sup>th</sup>.</font></span></span><span style="font-size: 18pt\;"><font color="#000000"><font face="Times New Roman"><o:p></o:p></font></font></span></p>\n\n<p class="MsoNormal" style="margin: 0in 0in 0pt\;"><span style="font-size: 18pt\;"><font color="#000000"><font face="Times New Roman"><o:p><span style="font-family: times new roman\;"><span style="font-size: 12px\;">Pre-registrations preferred: 218-739-9641</span></span></o:p></font></font></span></p>\n\n<p class="MsoNormal" style="margin: 0in 0in 0pt\;"><span style="font-family: times new roman\;"><span style="font-size: 12px\;"><font color="#000000">I hope to see you in the greenhouse!<span _fck_bookmark="1" style="display: none\;">&nbsp\;</span></font></span></span><span style="font-size: 18pt\;"><font color="#000000"><font face="Times New Roman"><o:p></o:p></font></font></span></p>\n
LOCATION:Nature's Garden World 1335 Highway 210 E. Fergus Falls
UID:e.314.32057
SEQUENCE:3
DTSTAMP:20260425T162955Z
URL:https://business.fergusfalls.com/events/details/planting-with-the-pros-04-01-2016-32057
END:VEVENT

END:VCALENDAR
