BEGIN:VCALENDAR
VERSION:2.0
PRODID:-//ChamberMaster//Event Calendar 2.0//EN
METHOD:PUBLISH
X-PUBLISHED-TTL:P3D
REFRESH-INTERVAL:P3D
CALSCALE:GREGORIAN
BEGIN:VEVENT
DTSTART:20170331T210000Z
DTEND:20170331T230000Z
X-MICROSOFT-CDO-ALLDAYEVENT:FALSE
SUMMARY:"Planting with the Pros" at Nature's Garden World
DESCRIPTION:Are you anxious to get your hands dirty but the ground is still frozen?  Come and join us for "Planting with the Pros" a great opportunity for you to plant your own containers!  We will furnish everything for you to create a 14" basket or planter that you will enjoy all season your own piece of art. Our experts can show you the newest plants/flowers and help you select the perfect combination of plants and colors for sunny or shady areas. After you've created your masterpiece\, join us for some refreshments.\n\nTwo days to choose from:\n\nFriday\, March 31st from 4-6pm -- arrive anytime.  \n\n Saturday April 1st rom 4-6pm -- arrive anytime.  (after the Fergus Falls Garden Day) \n\nThe cost is $43 and includes planter or basket filled with fertilized soil and your choice of up to plants. We'll keep your plant warm and watered until May.\n\nPlus\, receive $5.00 gift card to use on your next visit to Natures Garden World.  By creating your own masterpiece and furnishing the labor\, you will be saving $5.00 off our regular price mixed planters/baskets.\n\n  Baskets will be available for pickup on or before May 20th.\n\nPre-registrations preferred: 218-739-9641\n\nI hope to see you in the greenhouse!
X-ALT-DESC;FMTTYPE=text/html:<p class="MsoNormal" style="margin: 0in 0in 0pt\;"><span style="font-size:12px\;"><span style="font-family:tahoma\;"><font color="#000000">Are you anxious to get your hands dirty but the ground is still frozen?&nbsp\; Come and join us for &ldquo\;Planting with the Pros&rdquo\;&mdash\;a great opportunity for you to plant your own containers!&nbsp\; We will furnish everything for you to create a 14&rdquo\; basket or planter that you will enjoy all season&hellip\;your own piece of art. Our experts can show you the newest plants/flowers and help you select the perfect combination of plants and colors for sunny or shady </font><font color="#000000">areas.&nbsp\;</font><span font-size:="" new="" style="color: rgb(0\, 0\, 0)\; font-family: " times="">After</span><span font-size:="" new="" style="color: rgb(0\, 0\, 0)\; font-family: " times=""> you&rsquo\;ve created your masterpiece\, join us for some refreshments.</span><br />\n<font color="#000000">Two days to choose from:</font></span></span></p>\n\n<p class="MsoNormal" style="margin: 0in 0in 0pt\;"><span style="font-size:12px\;"><span style="font-family:tahoma\;"><font color="#000000">Friday\, March 31st from 4-6pm -- arrive anytime. &nbsp\;<br />\n&#8203\;Saturday&nbsp\;</font><span font-size:="" new="" style="color: rgb(0\, 0\, 0)\; font-family: " times="">April </span><span font-size:="" new="" style="color: rgb(0\, 0\, 0)\; font-family: " times="">1st&nbsp\;</span><span font-size:="" new="" style="color: rgb(0\, 0\, 0)\; font-family: " times="">rom&nbsp\;</span>4-6pm<span font-size:="" new="" style="color: rgb(0\, 0\, 0)\; font-family: " times="">&nbsp\;-- arrive anytime</span><font color="#000000">. &nbsp\;(</font><span font-size:="" new="" style="color: rgb(0\, 0\, 0)\; font-family: " times="">after the Fergus Falls Garden Day)</span><span font-size:="" new="" style="color: rgb(0\, 0\, 0)\; font-family: " times="">&nbsp\;</span></span></span></p>\n\n<p class="MsoNormal" style="margin: 0in 0in 0pt\;"><span style="font-size:12px\;"><span style="font-family:tahoma\;"><font color="#000000">The cost is $43&nbsp\;and includes planter or basket filled with fertilized soil and your choice of up to&nbsp\;plants. We&#39\;ll keep your plant warm and watered until May.<br />\nPlus\, receive $5.00 gift card to use on your next visit to Natures Garden World.&nbsp\; By creating your own masterpiece and furnishing the labor\, you will be saving $5.00 off our regular price mixed planters/baskets.</font></span></span></p>\n\n<p class="MsoNormal" style="margin: 0in 0in 0pt\;"><span style="font-size:12px\;"><span style="font-family:tahoma\;"><font color="#000000">&nbsp\; Baskets will be available for pickup on or before May 20<sup>th</sup>.</font></span></span></p>\n\n<p class="MsoNormal" style="margin: 0in 0in 0pt\;"><span style="font-size:12px\;"><span style="font-family:tahoma\;"><font color="#000000">Pre-registrations preferred: 218-739-9641</font></span></span></p>\n\n<p class="MsoNormal" style="margin: 0in 0in 0pt\;"><span style="font-size:12px\;"><span style="font-family:tahoma\;"><font color="#000000">I hope to see you in the greenhouse!<span _fck_bookmark="1" style="display: none\;">&nbsp\;</span></font></span></span></p>\n
LOCATION:Nature's Garden World 1335 Highway 210 E. Fergus Falls
UID:e.314.38930
SEQUENCE:3
DTSTAMP:20260424T225732Z
URL:https://business.fergusfalls.com/events/details/planting-with-the-pros-at-nature-s-garden-world-38930
END:VEVENT

END:VCALENDAR
