BEGIN:VCALENDAR
VERSION:2.0
PRODID:-//ChamberMaster//Event Calendar 2.0//EN
METHOD:PUBLISH
X-PUBLISHED-TTL:P3D
REFRESH-INTERVAL:P3D
CALSCALE:GREGORIAN
BEGIN:VEVENT
DTSTART:20200417T140000Z
DTEND:20200417T213000Z
X-MICROSOFT-CDO-ALLDAYEVENT:FALSE
SUMMARY:Planting with the Pros @ Nature's Garden World
DESCRIPTION:Are you anxious to get your hands dirty but the ground is still frozen?  Come and join us for "Planting with the Pros" a great opportunity for you to plant your own containers!  We will furnish everything for you to create a 14" basket or planter that you will enjoy all season your own piece of art. Our plant experts will help you select the perfect combination of colors\, flowers\, accents for your sunny or shady area.\n\n\n\nCome on in anytime during "Planting with the Pros."  We even care for your creation in our warm greenhouses until May 20th. You will be amazed at how beautiful your plants are!\n\n\nAs you may already know\, we postponed the original date to April 17th and April 18th\, but instead of it being from 3-6 PM\, we are now doing 30 minute sessions from 9AM- 4:30PM on both days of 5 people or less per session throughout the day to do our part in practicing social distancing.\n\n  \n\nIt is a crazy time right now with all of the COVID-19 issues going on\, so we are working hard to try and ensure a safe experience for Planting with the Pros. We have sessions available on both Friday and Saturday from 9:00am to 4:30pm.\n\n  \n\nWe still have many spots available\, so please give us a call at 218-739-9641 if you would still like to register. You can also stop in to register! We look forward to seeing many of you soon!\n\n  \n\nIf you do not feel comfortable coming in or you are unable to make one of the two scheduled days\, please give us a call. We will take your order and create your pot for you for the same price\, and store it here for you until May when it is full and ready to be put on display!\n\n  \n\nStay safe!\n\n\n-Nature's Garden World
X-ALT-DESC;FMTTYPE=text/html:<span style="color:#000000"><span style="font-size:14px">Are you anxious to get your hands dirty but the ground is still frozen?&nbsp\;&nbsp\;Come and join us for &ldquo\;Planting with the Pros&rdquo\;&mdash\;a great opportunity for you to plant your own containers!&nbsp\;&nbsp\;We will furnish everything for you to create a 14&rdquo\; basket or planter that you will enjoy all season&hellip\;your own piece of art. Our plant experts will help you select the perfect combination of colors\, flowers\, accents for your sunny or shady area.</span><br />\n<br />\n<span style="font-family:helvetica\,arial\,sans-serif\; font-size:14px">Come on in anytime during &quot\;Planting with the Pros.&quot\;&nbsp\; We even care for your creation in our warm greenhouses until May 20th. You will be amazed at how beautiful your plants are!</span></span>\n<p style="margin: 6px 0px\; font-family: Helvetica\, Arial\, sans-serif\; color: rgb(28\, 30\, 33)\; font-size: 14px\;"><br />\nAs you may already know\, we postponed the original date to April 17th and April 18th\, but instead of it being from 3-6 PM\, we are now doing 30 minute sessions from 9AM- 4:30PM on both days of 5 people or less per session throughout the day to do our part in practicing social distancing.<br />\n<span class="text_exposed_show" style="display: inline\; font-family: inherit\;"><span class="_5mfr" style="margin: 0px 1px\; font-family: inherit\;"><span 1="" 16="" class="_6qdm" emoji.php="" https:="" images="" static.xx.fbcdn.net="" style="background-repeat: no-repeat\; background-size: contain\; color: transparent\; display: inline-block\; text-shadow: none\; vertical-align: text-bottom\; font-family: inherit\; height: 16px\; width: 16px\; font-size: 16px\; background-image: url(" t4c="" v9="">&#9642\;&#65039\;</span></span><br />\nIt is a crazy time right now with all of the COVID-19 issues going on\, so we are working hard to try and ensure a safe experience for Planting with the Pros. We have sessions available on both Friday and Saturday from 9:00am to 4:30pm.<br />\n<span class="_5mfr" style="margin: 0px 1px\; font-family: inherit\;"><span 1="" 16="" class="_6qdm" emoji.php="" https:="" images="" static.xx.fbcdn.net="" style="background-repeat: no-repeat\; background-size: contain\; color: transparent\; display: inline-block\; text-shadow: none\; vertical-align: text-bottom\; font-family: inherit\; height: 16px\; width: 16px\; font-size: 16px\; background-image: url(" t4c="" v9="">&#9642\;&#65039\;</span></span><br />\nWe still have many spots available\, so please give us a call at 218-739-9641 if you would still like to register. You can also stop in to register! We look forward to seeing many of you soon!<br />\n<span class="_5mfr" style="margin: 0px 1px\; font-family: inherit\;"><span 1="" 16="" class="_6qdm" emoji.php="" https:="" images="" static.xx.fbcdn.net="" style="background-repeat: no-repeat\; background-size: contain\; color: transparent\; display: inline-block\; text-shadow: none\; vertical-align: text-bottom\; font-family: inherit\; height: 16px\; width: 16px\; font-size: 16px\; background-image: url(" t4c="" v9="">&#9642\;&#65039\;</span></span><br />\nIf you do not feel comfortable coming in or you are unable to make one of the two scheduled days\, please give us a call. We will take your order and create your pot for you for the same price\, and store it here for you until May when it is full and ready to be put on display!<br />\n<span class="_5mfr" style="margin: 0px 1px\; font-family: inherit\;"><span 1="" 16="" class="_6qdm" emoji.php="" https:="" images="" static.xx.fbcdn.net="" style="background-repeat: no-repeat\; background-size: contain\; color: transparent\; display: inline-block\; text-shadow: none\; vertical-align: text-bottom\; font-family: inherit\; height: 16px\; width: 16px\; font-size: 16px\; background-image: url(" t4c="" v9="">&#9642\;&#65039\;</span></span><br />\nStay safe!</span></p>\n\n<div class="text_exposed_show" style="display: inline\; font-family: Helvetica\, Arial\, sans-serif\; color: rgb(28\, 30\, 33)\; font-size: 14px\;">\n<p style="margin: 0px 0px 6px\; font-family: inherit\;">-Nature&#39\;s Garden World</p>\n</div>\n
LOCATION:Nature's Garden World 1335 E. Highway 210 Fergus Falls\, MN 56537
UID:e.314.57355
SEQUENCE:3
DTSTAMP:20260422T112702Z
URL:https://business.fergusfalls.com/events/details/planting-with-the-pros-nature-s-garden-world-57355
END:VEVENT

END:VCALENDAR
