BEGIN:VCALENDAR
VERSION:2.0
PRODID:-//ChamberMaster//Event Calendar 2.0//EN
METHOD:PUBLISH
X-PUBLISHED-TTL:P3D
REFRESH-INTERVAL:P3D
CALSCALE:GREGORIAN
BEGIN:VEVENT
DTSTART;VALUE=DATE:20181102
DTEND;VALUE=DATE:20181108
TRANSP:TRANSPARENT
X-MICROSOFT-CDO-ALLDAYEVENT:TRUE
SUMMARY:Playing in Theaters
DESCRIPTION:RATING Movie Title MATINEE TWILIGHT  EVENING \n\n \n\n\n	PG13 BOHEMIAN RHAPSODY 1:00   4:05 6:55 9:40\n	PG  NUTCRACKER AND THE FOUR REALMS 12:30 2:45 5:00 7:10 9:15\n	R HALLOWEEN 12:20 2:30 4:40 7:00 9:20\n	PG13 GOSNELL 12:25 2:35 4:45 7:15 9:25\n	R A STAR IS BORN 12:45  4:00 6:45 9:30
X-ALT-DESC;FMTTYPE=text/html:<div><span style="font-size:16px\;"><strong>RATING<span style="white-space:pre"> </span>Movie Title<span style="white-space:pre"> </span>MATINEE<span style="white-space:pre"> </span>TWILIGHT <span style="white-space:pre"> </span>EVENING<span style="white-space:pre"> </span></strong></span></div>\n\n<div>&nbsp\;</div>\n\n<ul>\n	<li><strong>PG13<span style="white-space:pre"> </span>BOHEMIAN RHAPSODY</strong><span style="white-space:pre"> </span>1:00<span style="white-space:pre"> </span> <span style="white-space:pre"> </span>4:05<span style="white-space:pre"> </span>6:55<span style="white-space:pre"> </span>9:40</li>\n	<li><strong>PG <span style="white-space:pre"> </span>NUTCRACKER AND THE FOUR REALMS</strong><span style="white-space:pre"> </span>12:30<span style="white-space:pre"> </span>2:45<span style="white-space: pre\;"> </span>5:00<span style="white-space:pre"> </span>7:10<span style="white-space:pre"> </span>9:15</li>\n	<li><strong>R<span style="white-space:pre"> </span>HALLOWEEN<span style="white-space:pre"> </span></strong>12:20<span style="white-space:pre"> </span>2:30<span style="white-space:pre"> </span>4:40<span style="white-space:pre"> </span>7:00<span style="white-space:pre"> </span>9:20</li>\n	<li><strong>PG13<span style="white-space:pre"> </span>GOSNELL<span style="white-space:pre"> </span></strong>12:25<span style="white-space:pre"> </span>2:35<span style="white-space:pre"> </span>4:45<span style="white-space:pre"> </span>7:15<span style="white-space:pre"> </span>9:25</li>\n	<li><span style="white-space:pre"><strong>R<span style="white-space:pre"> </span>A STAR IS BORN<span style="white-space:pre"> </span></strong>12:45<span style="white-space:pre"> </span><span style="white-space:pre"> </span>4:00<span style="white-space:pre"> </span>6:45<span style="white-space:pre"> </span>9:30</span></li>\n</ul>\n
LOCATION:Westridge Mall - Fergus Falls 2001 Lincoln Ave. - back of mall entrance Fergus Falls MN 56537
UID:e.314.51629
SEQUENCE:3
DTSTAMP:20260423T150604Z
URL:https://business.fergusfalls.com/events/details/playing-in-theaters-51629
END:VEVENT

END:VCALENDAR
