BEGIN:VCALENDAR
VERSION:2.0
PRODID:-//ChamberMaster//Event Calendar 2.0//EN
METHOD:PUBLISH
X-PUBLISHED-TTL:P3D
REFRESH-INTERVAL:P3D
CALSCALE:GREGORIAN
BEGIN:VEVENT
DTSTART:20160714T140000Z
DTEND:20160714T180000Z
X-MICROSOFT-CDO-ALLDAYEVENT:FALSE
SUMMARY:Plein Air Drawing for Kids & Teens
DESCRIPTION:A great opportunity to develop artistic skills while exploring our local landscape. Students will learn how to quickly sketch out a scene\, create compositions\, develop a plein air color palette\, and more. All materials provided. Ages 11 and up. Students will meet at the Kaddatz Gallery. Bring a snack\, water will be provided. Scholarships Available.
X-ALT-DESC;FMTTYPE=text/html:<p style="box-sizing: border-box\; margin: 0px 0px 30px\; font-size: 20px\; line-height: 30px\; font-family: &quot\;Open Sans&quot\;\, sans-serif\;"><span style="font-size:12px\;">A great opportunity to develop artistic skills while exploring our local landscape. Students will learn&nbsp\;how to quickly sketch out a scene\, create&nbsp\;compositions\, develop a plein air color palette\, and more. All materials provided.&nbsp\;Ages 11 and up.&nbsp\;Students will meet at the Kaddatz Gallery.&nbsp\;Bring a snack\, water will be provided.&nbsp\;Scholarships Available.</span></p>\n
LOCATION:Kaddatz Gallery - 111 West Lincoln Avenue
UID:e.314.32848
SEQUENCE:3
DTSTAMP:20260425T130033Z
URL:https://business.fergusfalls.com/events/details/plein-air-drawing-for-kids-teens-07-14-2016-32848
END:VEVENT

END:VCALENDAR
