BEGIN:VCALENDAR
VERSION:2.0
PRODID:-//ChamberMaster//Event Calendar 2.0//EN
METHOD:PUBLISH
X-PUBLISHED-TTL:P3D
REFRESH-INTERVAL:P3D
CALSCALE:GREGORIAN
BEGIN:VEVENT
DTSTART:20150927T140000Z
DTEND:20150928T000000Z
X-MICROSOFT-CDO-ALLDAYEVENT:FALSE
SUMMARY:PLGC Big Cup
DESCRIPTION:PLGC Big Cup
X-ALT-DESC;FMTTYPE=text/html:<span class="title" style="color: rgb(41\, 82\, 163)\;">PLGC Big Cup</span>
LOCATION:Pebble Lake Golf Course\, 1918 Pebble Lake Golf Drive\, Fergus Falls\, MN
UID:e.314.24215
SEQUENCE:3
DTSTAMP:20260426T043811Z
URL:https://business.fergusfalls.com/events/details/plgc-big-cup-09-27-2015-24215
END:VEVENT

END:VCALENDAR
