BEGIN:VCALENDAR
VERSION:2.0
PRODID:-//ChamberMaster//Event Calendar 2.0//EN
METHOD:PUBLISH
X-PUBLISHED-TTL:P3D
REFRESH-INTERVAL:P3D
CALSCALE:GREGORIAN
BEGIN:VEVENT
DTSTART;VALUE=DATE:20160806
DTEND;VALUE=DATE:20160808
TRANSP:TRANSPARENT
X-MICROSOFT-CDO-ALLDAYEVENT:TRUE
SUMMARY:PLGC Club Championship
DESCRIPTION:PLGC Club Championship
X-ALT-DESC;FMTTYPE=text/html:PLGC Club Championship&nbsp\;<br />\n&nbsp\;
LOCATION:Pebble Lake Golf Club 1918 Pebble Lake Golf Drive
UID:e.314.32930
SEQUENCE:3
DTSTAMP:20260425T110824Z
URL:https://business.fergusfalls.com/events/details/plgc-club-championship-08-06-2016-32930
END:VEVENT

END:VCALENDAR
