BEGIN:VCALENDAR
VERSION:2.0
PRODID:-//ChamberMaster//Event Calendar 2.0//EN
METHOD:PUBLISH
X-PUBLISHED-TTL:P3D
REFRESH-INTERVAL:P3D
CALSCALE:GREGORIAN
BEGIN:VEVENT
DTSTART:20151012T133000Z
DTEND:20151012T220000Z
X-MICROSOFT-CDO-ALLDAYEVENT:FALSE
SUMMARY:Plus It Forward Event - "Scattering Kindness As A Community"
DESCRIPTION:Scatter Kindness.....\n\n\n\nWe at Affinity Plus Federal Credit Union are asking YOU as a community to join us in a day filled with intentional acts of kindness! Commit to an act of kindness...commit the act...then tell us about it and sign our banner!\n\nWe will be camped out at Van Dyk Park (by the museum) Monday October 12th from 8:30a-5:00p to help you with ideas and/or to listen to what you have done! Also\, please join us also for a free lunch from 11a-1p at Van Dyk Park!
X-ALT-DESC;FMTTYPE=text/html:<span class="fsl">Scatter Kindness.....<br />\n<br />\nWe at <span style="color: rgb(128\, 0\, 128)\;"><strong>Affinity Plus Federal Credit Union</strong></span> are asking YOU as a community to join us in a day filled with intentional acts of kindness! Commit to an act of kindness...commit the act...then tell us about it and sign our banner!<br />\nWe will be camped out at <span style="color: rgb(0\, 0\, 255)\;">Van Dyk Park (by the museum)</span> <strong><em>Monday October 12th from 8:30a-5:00p to help you with ideas and/or to listen to what you have done! Also\, please join us also for a free lunch from 11a-1p at Van Dyk Park!</em></strong></span>
LOCATION:Van Dyk Park (Next to the Museum) Fergus Falls
UID:e.314.24467
SEQUENCE:3
DTSTAMP:20260426T043810Z
URL:https://business.fergusfalls.com/events/details/plus-it-forward-event-scattering-kindness-as-a-community-10-12-2015-24467
END:VEVENT

END:VCALENDAR
