BEGIN:VCALENDAR
VERSION:2.0
PRODID:-//ChamberMaster//Event Calendar 2.0//EN
METHOD:PUBLISH
X-PUBLISHED-TTL:P3D
REFRESH-INTERVAL:P3D
CALSCALE:GREGORIAN
BEGIN:VEVENT
DTSTART:20221010T160000Z
DTEND:20221010T170000Z
X-MICROSOFT-CDO-ALLDAYEVENT:FALSE
SUMMARY:Poor Farm Update Seminar
DESCRIPTION:Join us for a presentation by Bob Riepe who has been involved in uncovering unmarked graves of people buried in the Otter Tail County Poor Farm Cemetery. He also has written books based on historical fiction based on the lives of real people in the 1880s in area townships. All are welcome.
X-ALT-DESC;FMTTYPE=text/html:Join us for a presentation by Bob Riepe who has been involved in uncovering unmarked graves of people buried in the Otter Tail County Poor Farm Cemetery. He also has written books based on historical fiction based on the lives of real people in the 1880s in area townships. All are welcome.
LOCATION:Fergus Falls Senior Center
UID:e.314.67284
SEQUENCE:3
DTSTAMP:20260421T100642Z
URL:https://business.fergusfalls.com/events/details/poor-farm-update-seminar-67284
END:VEVENT

END:VCALENDAR
