BEGIN:VCALENDAR
VERSION:2.0
PRODID:-//ChamberMaster//Event Calendar 2.0//EN
METHOD:PUBLISH
X-PUBLISHED-TTL:P3D
REFRESH-INTERVAL:P3D
CALSCALE:GREGORIAN
BEGIN:VEVENT
DTSTART;VALUE=DATE:20181006
DTEND;VALUE=DATE:20181021
TRANSP:TRANSPARENT
X-MICROSOFT-CDO-ALLDAYEVENT:TRUE
SUMMARY:Pop-up Artcade
DESCRIPTION:Do you long for a simpler time and place of the past... like The Pirate's Den or some other arcade room gone by?\n\n\n\nIf so\, you are in luck! \n\n\n\nStarting October 5\, Studio K will have a Pop-up Arcade full of pinball machines and arcade games from the days of yore! \n\n\n\nThe Pop-up Arcade will be open during regular gallery hours as well as special evening hours Thursdays\, Fridays and Saturdays until Oct 20. \n\n\n\nThis activity is the brainchild of Carl Zachmann and is part of the Fergus Falls Year of Play\, a partnership between the Department of Public Perks and Springboard for the Arts\, with support from the National Endowment for the Arts. Learn more at www.yearofplay.com.
X-ALT-DESC;FMTTYPE=text/html:<span style="color: rgb(29\, 33\, 41)\; font-family: Helvetica\, Arial\, sans-serif\; font-size: 14px\; background-color: rgb(255\, 255\, 255)\;">Do you long for a simpler time and place of the past... like The Pirate&#39\;s Den or some other arcade room gone by?</span><br style="color: rgb(29\, 33\, 41)\; font-family: Helvetica\, Arial\, sans-serif\; font-size: 14px\; background-color: rgb(255\, 255\, 255)\;" />\n<br style="color: rgb(29\, 33\, 41)\; font-family: Helvetica\, Arial\, sans-serif\; font-size: 14px\; background-color: rgb(255\, 255\, 255)\;" />\n<span style="color: rgb(29\, 33\, 41)\; font-family: Helvetica\, Arial\, sans-serif\; font-size: 14px\; background-color: rgb(255\, 255\, 255)\;">If so\, you are in luck!&nbsp\;</span><br style="color: rgb(29\, 33\, 41)\; font-family: Helvetica\, Arial\, sans-serif\; font-size: 14px\; background-color: rgb(255\, 255\, 255)\;" />\n<br style="color: rgb(29\, 33\, 41)\; font-family: Helvetica\, Arial\, sans-serif\; font-size: 14px\; background-color: rgb(255\, 255\, 255)\;" />\n<span style="color: rgb(29\, 33\, 41)\; font-family: Helvetica\, Arial\, sans-serif\; font-size: 14px\; background-color: rgb(255\, 255\, 255)\;">Starting October 5\, Studio K will have a Pop-up Arcade full of pinball machines and arcade games from the days of yore!&nbsp\;</span><br style="color: rgb(29\, 33\, 41)\; font-family: Helvetica\, Arial\, sans-serif\; font-size: 14px\; background-color: rgb(255\, 255\, 255)\;" />\n<br style="color: rgb(29\, 33\, 41)\; font-family: Helvetica\, Arial\, sans-serif\; font-size: 14px\; background-color: rgb(255\, 255\, 255)\;" />\n<span style="color: rgb(29\, 33\, 41)\; font-family: Helvetica\, Arial\, sans-serif\; font-size: 14px\; background-color: rgb(255\, 255\, 255)\;">The Pop-up Arcade will be open during regular gallery hours as well as special evening hours Thursdays\, Fridays and Saturdays until Oct 20.&nbsp\;</span><br style="color: rgb(29\, 33\, 41)\; font-family: Helvetica\, Arial\, sans-serif\; font-size: 14px\; background-color: rgb(255\, 255\, 255)\;" />\n<br style="color: rgb(29\, 33\, 41)\; font-family: Helvetica\, Arial\, sans-serif\; font-size: 14px\; background-color: rgb(255\, 255\, 255)\;" />\n<span style="color: rgb(29\, 33\, 41)\; font-family: Helvetica\, Arial\, sans-serif\; font-size: 14px\; background-color: rgb(255\, 255\, 255)\;">This activity is the brainchild of Carl Zachmann and is part of the Fergus Falls Year of Play\, a partnership between the Department of Public Perks and Springboard for the Arts\, with support from the National Endowment for the Arts. Learn more at&nbsp\;</span><a data-lynx-mode="hover" data-lynx-uri="https://l.facebook.com/l.php?u=http%3A%2F%2Fwww.yearofplay.com%2F&amp\;h=AT2jwNGrGgA_KF1WRp5lFAp9HL90sQlikl7R-ar45ThCBUw23QsPt-DXXCjlkARPSSC-55mT9xQmlkwA3W2Y0_hUyhi0kqAVSJ0rj5ssoji-PlRpj7iQV8F3P6Q3FRpBXA" href="http://www.yearofplay.com/" rel="nofollow noopener" style="color: rgb(54\, 88\, 153)\; cursor: pointer\; text-decoration-line: none\; font-family: Helvetica\, Arial\, sans-serif\; font-size: 14px\; background-color: rgb(255\, 255\, 255)\;" target="_blank">www.yearofplay.com.</a>
LOCATION:Kaddatz Galleries 111 W Lincoln Ave\, Fergus Falls
UID:e.314.50464
SEQUENCE:3
DTSTAMP:20260423T150606Z
URL:https://business.fergusfalls.com/events/details/pop-up-artcade-50464
END:VEVENT

END:VCALENDAR
