BEGIN:VCALENDAR
VERSION:2.0
PRODID:-//ChamberMaster//Event Calendar 2.0//EN
METHOD:PUBLISH
X-PUBLISHED-TTL:P3D
REFRESH-INTERVAL:P3D
CALSCALE:GREGORIAN
BEGIN:VEVENT
DTSTART:20181222T173000Z
DTEND:20181222T180000Z
X-MICROSOFT-CDO-ALLDAYEVENT:FALSE
SUMMARY:Pop - Up Christmas Caroling
DESCRIPTION:Santa is done at city hall around 11 a.m. the Saturday before Christmas. It's a little known fact that Santa has a penchant for singing. So he's leading this event\, along with help from the The Federated Church of Fergus Falls senior choir. We'll be standing on the street in fron of Bello Cucina\, a pitchpipe in hand...yes\, acapella\, SATB\, non-accompanied. We have a dozen or so "Christmas in Song" books (1962). This is towards the end of the Welcome Home for the Holidays event\, so FERGUS FALLS SINGING ALUMNI especially invited! ALSO...is anyone up for a CASH MOB after? What stores or restaurants need a boost? See you there!
X-ALT-DESC;FMTTYPE=text/html:<div class="_63ew" data-testid="event-permalink-details"><span>Santa is done at city hall around 11 a.m. the Saturday before Christmas. It&#39\;s a little known fact that Santa has a penchant for singing. So he&#39\;s leading this event\, along with help from the <a href="https://www.facebook.com/openheartsmindsarms/" target="_blank"><font color="#0066cc">The Federated Church of Fergus Falls</font></a> senior choir. We&#39\;ll be standing on the street in fron of Bello Cucina\, a pitchpipe in hand...yes\, acapella\, SATB\, non-accompanied. We have a dozen or so &quot\;Christmas in Song&quot\; books (1962). This is towards the end of the <a href="https://www.facebook.com/events/270312573830535/" target="_blank"><font color="#0066cc">Welcome Home for the Holidays</font></a> event\, so FERGUS FALLS SINGING ALUMNI especially invited! ALSO...is anyone up for a CASH MOB after? What stores or restaurants need a boost? See you there!</span></div>\n
LOCATION:106 W Lincoln Ave Fergus Falls MN
UID:e.314.52090
SEQUENCE:3
DTSTAMP:20260423T122056Z
URL:https://business.fergusfalls.com/events/details/pop-up-christmas-caroling-52090
END:VEVENT

END:VCALENDAR
