BEGIN:VCALENDAR
VERSION:2.0
PRODID:-//ChamberMaster//Event Calendar 2.0//EN
METHOD:PUBLISH
X-PUBLISHED-TTL:P3D
REFRESH-INTERVAL:P3D
CALSCALE:GREGORIAN
BEGIN:VEVENT
DTSTART:20200801T170000Z
DTEND:20200801T220000Z
X-MICROSOFT-CDO-ALLDAYEVENT:FALSE
SUMMARY:Popcorn to Go $15 Family Size
DESCRIPTION:We still don't have an exact opening date but we are having a POPCORN SALE \n\nFamily Size Movie Theatre Popcorn for $15\n\nWe would love your support \n\nGet your orders in now! https://cectheatres.com/theatre/5/Westridge-Theatre\n\nPlease share with your friends
X-ALT-DESC;FMTTYPE=text/html:<span style="color: rgb(28\, 30\, 33)\; font-family: Helvetica\, Arial\, sans-serif\; font-size: 14px\;">We still don&#39\;t have an exact opening date but we are having a POPCORN SALE</span><span class="_5mfr" style="margin: 0px 1px\; font-family: Helvetica\, Arial\, sans-serif\; color: rgb(28\, 30\, 33)\; font-size: 14px\;"><span class="_6qdm" style="background-repeat: no-repeat\; background-size: contain\; color: transparent\; display: inline-block\; text-shadow: none\; vertical-align: text-bottom\; font-family: inherit\; height: 16px\; width: 16px\; font-size: 16px\; background-image: url(&quot\;https://static.xx.fbcdn.net/images/emoji.php/v9/t9a/1/16/1f37f.png&quot\;)\;">&#127871\;</span></span><br style="color: rgb(28\, 30\, 33)\; font-family: Helvetica\, Arial\, sans-serif\; font-size: 14px\;" />\n<span style="color: rgb(28\, 30\, 33)\; font-family: Helvetica\, Arial\, sans-serif\; font-size: 14px\;">Family Size Movie Theatre Popcorn for $15<br />\nWe would love your support</span><span class="_5mfr" style="margin: 0px 1px\; font-family: Helvetica\, Arial\, sans-serif\; color: rgb(28\, 30\, 33)\; font-size: 14px\;"><span class="_6qdm" style="background-repeat: no-repeat\; background-size: contain\; color: transparent\; display: inline-block\; text-shadow: none\; vertical-align: text-bottom\; font-family: inherit\; height: 16px\; width: 16px\; font-size: 16px\; background-image: url(&quot\;https://static.xx.fbcdn.net/images/emoji.php/v9/t6c/1/16/2764.png&quot\;)\;">&#10084\;</span></span><br style="color: rgb(28\, 30\, 33)\; font-family: Helvetica\, Arial\, sans-serif\; font-size: 14px\;" />\n<span style="color: rgb(28\, 30\, 33)\; font-family: Helvetica\, Arial\, sans-serif\; font-size: 14px\;">Get your orders in now!&nbsp\;</span><a href="https://cectheatres.com/theatre/5/Westridge-Theatre">https://cectheatres.com/theatre/5/Westridge-Theatre</a><br style="color: rgb(28\, 30\, 33)\; font-family: Helvetica\, Arial\, sans-serif\; font-size: 14px\;" />\n<span style="color: rgb(28\, 30\, 33)\; font-family: Helvetica\, Arial\, sans-serif\; font-size: 14px\;">Please share with your friends</span><span class="_5mfr" style="margin: 0px 1px\; font-family: Helvetica\, Arial\, sans-serif\; color: rgb(28\, 30\, 33)\; font-size: 14px\;"><span class="_6qdm" style="background-repeat: no-repeat\; background-size: contain\; color: transparent\; display: inline-block\; text-shadow: none\; vertical-align: text-bottom\; font-family: inherit\; height: 16px\; width: 16px\; font-size: 16px\; background-image: url(&quot\;https://static.xx.fbcdn.net/images/emoji.php/v9/t7f/1/16/1f60a.png&quot\;)\;">&#128522\;</span></span>
LOCATION:WestRidge Cinema 2001 Lincoln Ave. W. Fergus Falls\, MN
UID:e.314.57779
SEQUENCE:3
DTSTAMP:20260422T070521Z
URL:https://business.fergusfalls.com/events/details/popcorn-to-go-15-family-size-57779
END:VEVENT

END:VCALENDAR
