BEGIN:VCALENDAR
VERSION:2.0
PRODID:-//ChamberMaster//Event Calendar 2.0//EN
METHOD:PUBLISH
X-PUBLISHED-TTL:P3D
REFRESH-INTERVAL:P3D
CALSCALE:GREGORIAN
BEGIN:VEVENT
DTSTART:20160408T000000Z
DTEND:20160408T013000Z
X-MICROSOFT-CDO-ALLDAYEVENT:FALSE
SUMMARY:Portrait and Figure Drawing with Scott Gunvaldson
DESCRIPTION:Portrait and Figure Drawing with Scott Gunvaldson Thursdays\, 7-8:30pm\, Starting April 7th for 8 weeks $150\, materials included.\n\n\n\nIn this 8 week course students will have the opportunity to study muscle detail\, facial expressions\, and overall form in a way that is not possible with a two-dimensional image. Drawing from life can increase drawing skills\, enhance design\, and strengthen hand-eye coordination. Models will be clothed. All skill levels welcome.\n\n\n\nLimited number of full and partial scholarships available.
X-ALT-DESC;FMTTYPE=text/html:<strong><span style="font-size: 18px\;">Portrait and Figure Drawing with Scott Gunvaldson Thursdays\, 7-8:30pm\, Starting April&nbsp\;7th for&nbsp\;8 weeks $150\, materials included.</span></strong><br />\n<br />\n<span style="font-size: 18px\;">In this 8 week course students will have the opportunity to study muscle detail\, facial expressions\, and overall form in a way that is not possible with a two-dimensional image. Drawing from life can increase drawing skills\, enhance design\, and strengthen hand-eye coordination. Models will be clothed.&nbsp\;All skill levels welcome.<br />\n<br />\nLimited number of full and partial scholarships available.</span><br />\n&nbsp\;
LOCATION:Kaddatz Galleries 111. W Lincoln Ave Fergus Falls mn
UID:e.314.32312
SEQUENCE:3
DTSTAMP:20260425T163434Z
URL:https://business.fergusfalls.com/events/details/portrait-and-figure-drawing-with-scott-gunvaldson-04-07-2016-32312
END:VEVENT

END:VCALENDAR
