BEGIN:VCALENDAR
VERSION:2.0
PRODID:-//ChamberMaster//Event Calendar 2.0//EN
METHOD:PUBLISH
X-PUBLISHED-TTL:P3D
REFRESH-INTERVAL:P3D
CALSCALE:GREGORIAN
BEGIN:VEVENT
DTSTART:20200212T160000Z
DTEND:20200212T180000Z
X-MICROSOFT-CDO-ALLDAYEVENT:FALSE
SUMMARY:POSTPONED: Feb. 12 Chamber Ambassador Visits
DESCRIPTION:POSTPONED: Chamber Ambassador Visits\n\n\n\n10:00 - Icon Business Advantage - New Member\n\n            202 S Court St. (Chamber Office)\n\n10:30 - Hardee's - 5 Year Anniversary\n\n            2524 College Way\n\n11:00 - AmericInn by Wyndham - 25 Year Anniversary\n\n            526 Western Ave. \n\n11:30 - Veterans Walk of Flags - New Member \n\n            202  S Court St. (Chamber Office)
X-ALT-DESC;FMTTYPE=text/html:<strong>POSTPONED: Chamber Ambassador Visits<br />\n<br />\n10:00 - Icon Business Advantage - New Member</strong><br />\n&nbsp\;&nbsp\;&nbsp\;&nbsp\;&nbsp\;&nbsp\;&nbsp\;&nbsp\;&nbsp\;&nbsp\;&nbsp\;&nbsp\;202 S Court St. (Chamber Office)<br />\n<strong>10:30 - Hardee&#39\;s - 5 Year Anniversary</strong><br />\n&nbsp\;&nbsp\;&nbsp\;&nbsp\;&nbsp\;&nbsp\;&nbsp\;&nbsp\;&nbsp\;&nbsp\;&nbsp\;&nbsp\;2524 College Way<br />\n<strong>11:00 - AmericInn by Wyndham - 25 Year Anniversary</strong><br />\n&nbsp\;&nbsp\;&nbsp\;&nbsp\;&nbsp\;&nbsp\;&nbsp\;&nbsp\;&nbsp\;&nbsp\;&nbsp\;&nbsp\;526 Western Ave.&nbsp\;<br />\n<strong>11:30 - Veterans Walk of Flags - New Member </strong><br />\n&nbsp\;&nbsp\;&nbsp\;&nbsp\;&nbsp\;&nbsp\;&nbsp\;&nbsp\;&nbsp\;&nbsp\;&nbsp\;&nbsp\;202&nbsp\; S Court St. (Chamber Office)<br />\n<br />\n&nbsp\;
LOCATION:
UID:e.314.12575
SEQUENCE:3
DTSTAMP:20260422T143145Z
URL:https://business.fergusfalls.com/events/details/postponed-feb-12-chamber-ambassador-visits-12575
END:VEVENT

END:VCALENDAR
