BEGIN:VCALENDAR
VERSION:2.0
PRODID:-//ChamberMaster//Event Calendar 2.0//EN
METHOD:PUBLISH
X-PUBLISHED-TTL:P3D
REFRESH-INTERVAL:P3D
CALSCALE:GREGORIAN
BEGIN:VEVENT
DTSTART:20260617T140000Z
DTEND:20260617T153000Z
X-MICROSOFT-CDO-ALLDAYEVENT:FALSE
SUMMARY:Pottery for Kids (pre-register)
DESCRIPTION:Class #4026A-WS26\n\nInstructor:  Blayze Buseth\n\n\n\nJoin us for a fun\, creative 3-day workshop where students build their own themed mug from start to finish. We'll explore clay shaping\, 3D sculpin\, carving patterns\, and colorful painting techniques. Each student will design a mug that fits their interests--whether that's animals\, cartoons\, sports\, or seasonal ideas. Class dates: June 10\, 17\, 24 - 9:00 am to 10:30 am.
X-ALT-DESC;FMTTYPE=text/html:Class #4026A-WS26<br />\nInstructor:&nbsp\; Blayze Buseth<br />\n<br />\nJoin us for a fun\, creative 3-day workshop where students build their own themed mug from start to finish. We&#39\;ll explore clay shaping\, 3D sculpin\, carving patterns\, and colorful painting techniques. Each student will design a mug that fits their interests--whether that&#39\;s animals\, cartoons\, sports\, or seasonal ideas.&nbsp\;<strong>Class dates: June 10\, 17\, 24&nbsp\;- 9:00 am to 10:30 am</strong>.
LOCATION:Creation Shop\, 119 N Mill St\, Fergus Falls
UID:e.314.76748
SEQUENCE:3
DTSTAMP:20260422T184507Z
URL:https://business.fergusfalls.com/events/details/pottery-for-kids-pre-register-76748
END:VEVENT

END:VCALENDAR
