BEGIN:VCALENDAR
VERSION:2.0
PRODID:-//ChamberMaster//Event Calendar 2.0//EN
METHOD:PUBLISH
X-PUBLISHED-TTL:P3D
REFRESH-INTERVAL:P3D
CALSCALE:GREGORIAN
BEGIN:VEVENT
DTSTART;VALUE=DATE:20180921
DTEND;VALUE=DATE:20180922
TRANSP:TRANSPARENT
X-MICROSOFT-CDO-ALLDAYEVENT:TRUE
SUMMARY:POW/MIA Day - Fergus Falls Walk of Flags
DESCRIPTION:POW/MIA Day - Veterans Walk of Flags \n\n\n\n\n\nThe Fergus Falls Veterans Walk of Flags began September 2\, 2002. Perrie Sheldon came up with the idea after visiting his son and daughter-in-law in Sheldon\, Iowa and viewing the town's "Avenue of Flags"\, where his son had purchased a flag in Perrie's name to honor him. He thought that would be a great idea for Fergus Falls and along with co-founder\, Stan Morrill\, had various meetings and discussions with the City of Fergus Falls. The late Mayor Kelly Ferber gave the project the go-ahead. Soon after that it was named "Veterans Walk of Flags" and would start in Veterans Memorial Park in Fergus Falls. Flags were sold at $75 a piece to honor any veteran\, living or deceased\, who served in any war with an Honorable Discharge.\n\n\n\nAt present\, the Walk of Flags is maxed out at 1\,862 flags and are displayed in 10 areas around town: Veterans Park\, NP Park\, Court House\, Junius Ave.\, Union Ave.\, Wright Park\, Neese Park\, City Hall Park\, Friberg/Summit Ave.\, and the Minnesota Veterans Home. Flags are displayed 10 times per year.\n\n\n\nThey are put up around 7:15 a.m. by volunteers working out of 4 different trailers and taken down at 4:30. Volunteers are always NEEDED!\n\n\n\nThe Veterans Walk of Flags\, Inc. is a 501(c)3 non-profit independent organization. All contributions are tax deductible and are accepted at any time.
X-ALT-DESC;FMTTYPE=text/html:<strong>POW/MIA Day - Veterans Walk of Flags </strong><br />\n<br />\n<br />\n<span>The Fergus Falls Veterans Walk of Flags began September 2\, 2002. Perrie Sheldon came up with the idea after visiting his son and daughter-in-law in Sheldon\, Iowa and viewing the town&rsquo\;s &ldquo\;Avenue of Flags&rdquo\;\, where his son had purchased a flag in Perrie&rsquo\;s name to honor him. He thought that would be a great idea for Fergus Falls and along with co-founder\, Stan Morrill\, had various meetings and discussions with the City of Fergus Falls. The late Mayor Kelly Ferber gave the project the go-ahead. Soon after that it was named &ldquo\;Veterans Walk of Flags&rdquo\; and would start in Veterans Memorial Park in Fergus Falls. Flags were sold at $75 a piece to honor any veteran\, living or deceased\, who served in any war with an Honorable Discharge.<br />\n<br />\nAt present\, the Walk of Flags is maxed out at 1\,862 flags and are displayed in 10 areas around town: Veterans Park\, NP Park\, Court House\, Junius Ave.\, Union Ave.\, Wright Park\, Neese Park\, City Hall Park\, Friberg/Summit Ave.\, and the Minnesota Veterans Home. Flags are displayed 10 times per year.<br />\n<br />\n<strong>They are put up around 7:15 a.m. by volunteers working out of 4 different trailers and taken down at 4:30. <em>Volunteers are always NEEDED!</em></strong><br />\n<br />\nThe Veterans Walk of Flags\, Inc. is a 501(c)3 non-profit independent organization. All contributions are tax deductible and are accepted at any time. </span><br />\n<br />\n&nbsp\;
LOCATION:
UID:e.314.42863
SEQUENCE:3
DTSTAMP:20260423T165748Z
URL:https://business.fergusfalls.com/events/details/pow-mia-day-fergus-falls-walk-of-flags-42863
END:VEVENT

END:VCALENDAR
