BEGIN:VCALENDAR
VERSION:2.0
PRODID:-//ChamberMaster//Event Calendar 2.0//EN
METHOD:PUBLISH
X-PUBLISHED-TTL:P3D
REFRESH-INTERVAL:P3D
CALSCALE:GREGORIAN
BEGIN:VEVENT
DTSTART:20200521T160000Z
DTEND:20200521T170000Z
X-MICROSOFT-CDO-ALLDAYEVENT:FALSE
SUMMARY:PPP Q&A #3 - Paycheck Protection Program Zoom Session Thursday
DESCRIPTION:Has your business taken a PPP (Paycheck Protection Program) loan? If you've received funds\, you'll want to attend this session to learn the latest information on the 11 page Loan Forgiveness Application that was released by the SBA on Friday\, May 15th. Megan Beckler\, owner of Multi Business Solutions\, accountant and QuickBooks expert will share some important details and answer questions on what this process will require (hint: it will be extensive). \n\nNow is the time to make sure you have "your ducks in a row." \n\nFind out:\n\nBasics of the PPP\n\n\n	Eligible and Non-Eligible payroll costs\n	MUST DO's\n	PPP Forgiveness Application review including the "Covered Period"\, "Alternative Payroll Covered Period"\, Average FTE calculations\, qualifications for "Salary/Hourly Wage Reduction Safe Harbor" and required documentation\n	QUESTIONS\n\n(Information presented is current as of the presentation date. Due to the sensitive nature of the material covered and to allow an open Q&A\, this zoom session will NOT be recorded).
X-ALT-DESC;FMTTYPE=text/html:<span style="font-size:12px\;"><span style="font-family:verdana\;"><span style="color:#000000\;">Has your business taken a PPP (Paycheck Protection Program) loan? If you&#39\;ve received funds\, you&#39\;ll want to attend this session to learn the latest information on the 11 page Loan Forgiveness&nbsp\;Application that was released by the SBA on Friday\, May 15th. Megan Beckler\, owner of Multi Business Solutions\, accountant and QuickBooks expert will share some important details and answer questions on what this process will require (hint: it will be extensive).&nbsp\;<br style="box-sizing:content-box\;empty-cells:show\;font-variant-numeric:inherit\;font-variant-east-asian:inherit\;font-stretch:inherit\;line-height:inherit\;max-height:none\;max-width:none\;min-height:initial\;min-width:initial\;opacity:1\;text-overflow:clip\;word-break:inherit\;background-position:initial\;background-size:initial\;background-repeat:initial\;background-origin:initial\;background-clip:initial\;border-radius:0px\;float:none\;overflow:visible\;" />\nNow is the time to make sure you have &quot\;your ducks in a row.&quot\;&nbsp\;<br style="box-sizing:content-box\;empty-cells:show\;font-variant-numeric:inherit\;font-variant-east-asian:inherit\;font-stretch:inherit\;line-height:inherit\;max-height:none\;max-width:none\;min-height:initial\;min-width:initial\;opacity:1\;text-overflow:clip\;word-break:inherit\;background-position:initial\;background-size:initial\;background-repeat:initial\;background-origin:initial\;background-clip:initial\;border-radius:0px\;float:none\;overflow:visible\;" />\nFind out:<br style="box-sizing:content-box\;empty-cells:show\;font-variant-numeric:inherit\;font-variant-east-asian:inherit\;font-stretch:inherit\;line-height:inherit\;max-height:none\;max-width:none\;min-height:initial\;min-width:initial\;opacity:1\;text-overflow:clip\;word-break:inherit\;background-position:initial\;background-size:initial\;background-repeat:initial\;background-origin:initial\;background-clip:initial\;border-radius:0px\;float:none\;overflow:visible\;" />\nBasics of the PPP</span></span></span>\n\n<ul>\n	<li><span style="font-size:12px\;"><span style="font-family:verdana\;"><span style="color:#000000\;">Eligible and Non-Eligible payroll costs</span></span></span></li>\n	<li><span style="font-size:12px\;"><span style="font-family:verdana\;"><span style="color:#000000\;">MUST DO&#39\;s</span></span></span></li>\n	<li><span style="font-size:12px\;"><span style="font-family:verdana\;"><span style="color:#000000\;">PPP Forgiveness Application review including the &quot\;Covered Period&quot\;\, &quot\;Alternative Payroll Covered Period&quot\;\, Average FTE calculations\, qualifications for &quot\;Salary/Hourly Wage Reduction Safe Harbor&quot\; and required documentation</span></span></span></li>\n	<li><span style="font-size:12px\;"><span style="font-family:verdana\;"><span style="color:#000000\;">QUESTIONS</span></span></span></li>\n</ul>\n<span style="font-size:12px\;"><span style="font-family:verdana\;"><span style="color:#000000\;">(Information presented is current as of the presentation date. Due to the sensitive nature of the material covered and to allow an open Q&amp\;A\, this zoom session will NOT be recorded).&nbsp\;&nbsp\;</span></span></span>
LOCATION:ZOOM You will receive login information once you've registered.
UID:e.314.57435
SEQUENCE:3
DTSTAMP:20260422T095310Z
URL:https://business.fergusfalls.com/events/details/ppp-q-a-3-paycheck-protection-program-zoom-session-thursday-57435
END:VEVENT

END:VCALENDAR
