BEGIN:VCALENDAR
VERSION:2.0
PRODID:-//ChamberMaster//Event Calendar 2.0//EN
METHOD:PUBLISH
X-PUBLISHED-TTL:P3D
REFRESH-INTERVAL:P3D
CALSCALE:GREGORIAN
BEGIN:VEVENT
DTSTART:20200512T150000Z
DTEND:20200512T160000Z
X-MICROSOFT-CDO-ALLDAYEVENT:FALSE
SUMMARY:PPP Q&A - Paycheck Protection Program Zoom Session
DESCRIPTION:Has your business taken a PPP (Paycheck Protection Program) loan? If you've received funds\, you'll want to attend this session to get some TIPS for tracking expenses\, payroll\, FTE count\, wages etc. Megan Beckler\, owner of Multi Business Solutions\, accountant and QuickBooks expert will share some important resources and answer questions on what to keep track of and how the decisions you make today will impact the PPP outcome.\n\nNow is the time to make sure you have "your ducks in a row." Although we don't have all the answers\, we can provide guidance on record keeping -- and hopefully lead you towards loan forgiveness.\n\nFind out:\n\n	Basics of the PPP\n	What can be included in payroll costs\n	MUST DO's\n	To Develop a Strategy\n	What to do after the 8-week period \n	Other resources - Employee Retention Tax Credit\, Emergency Paid Sick Leave & Emergency Family Medical Leave Expansion Act\n	QUESTIONS\n\n  (This session will not address loan forgiveness details as they have not yet been provided in detail. Information presented is current as of the presentation date. Due to the sensitive nature of the material covered and to allow an open Q&A\, this zoom session will NOT be recorded).
X-ALT-DESC;FMTTYPE=text/html:<span style="color:#000000\;"><span style="font-size:12px\;"><span style="font-family:verdana\;">Has your business taken a PPP (Paycheck Protection Program) loan? If you&#39\;ve received funds\, you&#39\;ll want to attend this session to get some TIPS for tracking expenses\, payroll\, FTE count\, wages etc. Megan Beckler\, owner of Multi Business Solutions\, accountant and QuickBooks expert will share some important resources and answer questions on what to keep track of and how the decisions you make today will impact the PPP outcome.<br style="box-sizing: border-box\; color: rgb(35\, 35\, 51)\; font-family: Lato\, Helvetica\, Arial\; font-size: 14px\;" />\nNow is the time to make sure you have &quot\;your ducks in a row.&quot\; Although we don&#39\;t have all the answers\, we can provide guidance on record keeping -- and hopefully lead you towards loan forgiveness.<br />\n<strong>Find out:</strong></span></span></span>\n<ul>\n	<li><span style="color:#000000\;"><span style="font-size:12px\;"><strong><span style="font-family:verdana\;">Basics of the PPP</span></strong></span></span></li>\n	<li><span style="color:#000000\;"><span style="font-size:12px\;"><strong><span style="font-family:verdana\;">What can be included in payroll costs</span></strong></span></span></li>\n	<li><span style="color:#000000\;"><span style="font-size:12px\;"><strong><span style="font-family:verdana\;">MUST DO&#39\;s</span></strong></span></span></li>\n	<li><span style="color:#000000\;"><span style="font-size:12px\;"><strong><span style="font-family:verdana\;">To Develop a Strategy</span></strong></span></span></li>\n	<li><span style="color:#000000\;"><span style="font-size:12px\;"><strong><span style="font-family:verdana\;">What to do after the 8-week period&nbsp\;</span></strong></span></span></li>\n	<li><span style="color:#000000\;"><span style="font-size:12px\;"><strong><span style="font-family:verdana\;">Other resources - Employee Retention Tax Credit\, Emergency Paid Sick Leave &amp\; Emergency Family Medical Leave Expansion Act</span></strong></span></span></li>\n	<li><span style="color:#000000\;"><span style="font-size:12px\;"><strong><span style="font-family:verdana\;">QUESTIONS</span></strong></span></span></li>\n</ul>\n<span style="color:#000000\;"> <span style="font-size:10px\;"><span style="font-family:verdana\;"> (This session will not address loan forgiveness details as they have not yet been provided in detail. Information presented is current as of the presentation date.&nbsp\;Due to the sensitive nature of the material covered and to allow an open Q&amp\;A\, this zoom session will NOT be recorded).</span></span></span>
LOCATION:ZOOM You will receive login information once you've registered.
UID:e.314.57420
SEQUENCE:3
DTSTAMP:20260422T112215Z
URL:https://business.fergusfalls.com/events/details/ppp-q-a-paycheck-protection-program-zoom-session-57420
END:VEVENT

END:VCALENDAR
