BEGIN:VCALENDAR
VERSION:2.0
PRODID:-//ChamberMaster//Event Calendar 2.0//EN
METHOD:PUBLISH
X-PUBLISHED-TTL:P3D
REFRESH-INTERVAL:P3D
CALSCALE:GREGORIAN
BEGIN:VEVENT
DTSTART:20151013T120000Z
DTEND:20151013T130000Z
X-MICROSOFT-CDO-ALLDAYEVENT:FALSE
SUMMARY:Pray Fergus Falls
DESCRIPTION:Pray Fergus Falls meets every Tuesday morning at 7am. Join us as we pray for our community.
X-ALT-DESC;FMTTYPE=text/html:Pray Fergus Falls meets every Tuesday morning at 7am. Join us as we pray for our community.
LOCATION:Old "well" location under Body Mind Center Lincoln Ave. Fergus Falls
UID:e.314.6968
SEQUENCE:3
DTSTAMP:20260426T043812Z
URL:https://business.fergusfalls.com/events/details/pray-fergus-falls-10-13-2015-6968
END:VEVENT

END:VCALENDAR
