BEGIN:VCALENDAR
VERSION:2.0
PRODID:-//ChamberMaster//Event Calendar 2.0//EN
METHOD:PUBLISH
X-PUBLISHED-TTL:P3D
REFRESH-INTERVAL:P3D
CALSCALE:GREGORIAN
BEGIN:VEVENT
DTSTART:20191008T201500Z
DTEND:20191008T220000Z
X-MICROSOFT-CDO-ALLDAYEVENT:FALSE
SUMMARY:Pre-Register for 4-H Afterschool (The Adventures of a Mad Scientist)
DESCRIPTION:Instructor:  Tammy Nordick\n\nClass #3001-F19\n\n\n\nThis program is for youth K-4th grade. Wacky\, Weird and Wonderful Science is the theme of this year's 4-H Afterschool Program. Experiments are an awesome part of science that allow students to engage in fun and exciting hands-on learning experiences that they are sure to enjoy! If you would like to learn more\, then you should join The Adventures of a Mad Scientist 4-H Afterschool Program! We meet the 2nd Tuesday of the month: Oct. 8\, Nov. 12\, Dec. 10 - 2019\; Feb. 11\, Mar. 10\, April 14 - 2020. Cost: $20.00 per student for the year with a $30.00 family limit. If cost creates a hardship\, fee waivers are available. Register with Community Education or call 218-998-8760.
X-ALT-DESC;FMTTYPE=text/html:Instructor: &nbsp\;Tammy Nordick<br />\nClass #3001-F19<br />\n<br />\nThis program is for youth K-4th grade. Wacky\, Weird and Wonderful Science is the theme of this year&#39\;s 4-H Afterschool Program. Experiments are an awesome part of science that allow students to engage in fun and exciting hands-on learning experiences that they are sure to enjoy! If you would like to learn more\, then you should join The Adventures of a Mad Scientist 4-H Afterschool Program! We meet the 2nd Tuesday of the month: Oct. 8\, Nov. 12\, Dec. 10 - 2019\; Feb. 11\, Mar. 10\, April 14 - 2020. Cost: $20.00 per student for the year with a $30.00 family limit. If cost creates a hardship\, fee waivers are available. Register with Community Education or call 218-998-8760.
LOCATION:Adams Elementary School - Cafeteria\, 301 W. Bancroft\, Fergus Falls\, MN
UID:e.314.24162
SEQUENCE:3
DTSTAMP:20260422T221828Z
URL:https://business.fergusfalls.com/events/details/pre-register-for-4-h-after-school-program-endless-possibilities-02-09-2016-24162
END:VEVENT

END:VCALENDAR
