BEGIN:VCALENDAR
VERSION:2.0
PRODID:-//ChamberMaster//Event Calendar 2.0//EN
METHOD:PUBLISH
X-PUBLISHED-TTL:P3D
REFRESH-INTERVAL:P3D
CALSCALE:GREGORIAN
BEGIN:VEVENT
DTSTART:20191010T180000Z
DTEND:20191010T190000Z
X-MICROSOFT-CDO-ALLDAYEVENT:FALSE
SUMMARY:Pre-Register for Alzheimer's - 10 Warning Signs
DESCRIPTION:Class #1503-F19\n\nInstructor: Kendra Lund\n\n\n\nThis workshop is for anyone who would like to know more about Alzheimer's disease and related dementias. Participants will be able to identify the 10 warning signs of Alzheimer's disease and what to do next if they are experiencing signs of Alzheimer's\; understand what is involved in getting a diagnosis\; be able to identify the risks of Alzheimer's\, including connections to other conditions\; and understand the benefits of early detection.
X-ALT-DESC;FMTTYPE=text/html:Class #1503-F19<br />\nInstructor: Kendra Lund<br />\n<br />\nThis workshop is for anyone who would like to know more about Alzheimer&#39\;s disease and related dementias. Participants will be able to identify the 10 warning signs of Alzheimer&#39\;s disease and what to do next if they are experiencing signs of Alzheimer&#39\;s\; understand what is involved in getting a diagnosis\; be able to identify the risks of Alzheimer&#39\;s\, including connections to other conditions\; and understand the benefits of early detection.
LOCATION:Roosevelt Education Center\, Community Education\, 340 Friberg Avenue\, Fergus Falls\, MN
UID:e.314.38955
SEQUENCE:3
DTSTAMP:20260422T203816Z
URL:https://business.fergusfalls.com/events/details/pre-register-for-alzheimer-s-the-basics-38955
END:VEVENT

END:VCALENDAR
