BEGIN:VCALENDAR
VERSION:2.0
PRODID:-//ChamberMaster//Event Calendar 2.0//EN
METHOD:PUBLISH
X-PUBLISHED-TTL:P3D
REFRESH-INTERVAL:P3D
CALSCALE:GREGORIAN
BEGIN:VEVENT
DTSTART:20190206T000000Z
DTEND:20190206T023000Z
X-MICROSOFT-CDO-ALLDAYEVENT:FALSE
SUMMARY:Pre-Register for An Evening in Italy
DESCRIPTION:Class #3250-WS19\n\nInstructor:  Jan Werkau\, Chef\n\n\n\nTake a trip to Italy without leaving the comforts of home. We'll start with a couple of delicious appetizers\, the "corso di antipasto"\, and end with an amazing dessert. In between\, we'll prepare a "primo" (first course) of ravioli using fresh pasta and learn to make risotto (which is not nearly as difficult as most people think). Pair any of the dishes we make with a simple salad and you'll be able to travel (virtually) to Italy any time you'd like. Class fee includes supplies.
X-ALT-DESC;FMTTYPE=text/html:Class #3250-WS19<br />\nInstructor:&nbsp\; Jan Werkau\, Chef<br />\n<br />\nTake a trip to Italy without leaving the comforts of home. We&#39\;ll start with a couple of delicious appetizers\, the &quot\;corso di antipasto&quot\;\, and end with an amazing dessert. In between\, we&#39\;ll prepare a &quot\;primo&quot\; (first course) of ravioli using fresh pasta and learn to make risotto (which is not nearly as difficult as most people think). Pair any of the dishes we make with a simple salad and you&#39\;ll be able to travel (virtually) to Italy any time you&#39\;d like. Class fee includes supplies.
LOCATION:Kennedy Secondary School - Room 1603\, 601 Randolph Ave.\, Fergus Falls
UID:e.314.52304
SEQUENCE:3
DTSTAMP:20260423T105734Z
URL:https://business.fergusfalls.com/events/details/pre-register-for-an-evening-in-italy-52304
END:VEVENT

END:VCALENDAR
