BEGIN:VCALENDAR
VERSION:2.0
PRODID:-//ChamberMaster//Event Calendar 2.0//EN
METHOD:PUBLISH
X-PUBLISHED-TTL:P3D
REFRESH-INTERVAL:P3D
CALSCALE:GREGORIAN
BEGIN:VEVENT
DTSTART:20190923T233000Z
DTEND:20190924T010000Z
X-MICROSOFT-CDO-ALLDAYEVENT:FALSE
SUMMARY:Pre-Register for Community Hand Bell Choir
DESCRIPTION:Class #3105-F19\n\nInstructor:  Mary Jane Westra\n\n\n\nJoin members of the community and learn how to ring! This choir is open to anyone 18 years of age or older that can read music. You will learn the basics of holding the bell\, ringing and damping. Have fun\, with the culmination of performance. Class size limited to 12 students. Start date:  Sept. 23 and ongoing thereafter.
X-ALT-DESC;FMTTYPE=text/html:Class #3105-F19<br />\nInstructor:&nbsp\; Mary Jane Westra<br />\n<br />\nJoin members of the community and learn how to ring! This choir is open to anyone 18 years of age or older that can read music. You will learn the basics of holding the bell\, ringing and damping. Have fun\, with the culmination of performance. Class size limited to 12 students. Start date:&nbsp\; Sept. 23 and ongoing thereafter.
LOCATION:PioneerCare Center\, Mabelle Ave.\, Fergus Falls\, MN
UID:e.314.54686
SEQUENCE:3
DTSTAMP:20260422T222512Z
URL:https://business.fergusfalls.com/events/details/pre-register-for-community-hand-bell-choir-54686
END:VEVENT

END:VCALENDAR
