BEGIN:VCALENDAR
VERSION:2.0
PRODID:-//ChamberMaster//Event Calendar 2.0//EN
METHOD:PUBLISH
X-PUBLISHED-TTL:P3D
REFRESH-INTERVAL:P3D
CALSCALE:GREGORIAN
BEGIN:VEVENT
DTSTART:20160311T003000Z
DTEND:20160311T013000Z
X-MICROSOFT-CDO-ALLDAYEVENT:FALSE
SUMMARY:Pre-Register for Conversational French
DESCRIPTION:Instructor:  Deb Sutor\n\nClass #3307-WS16\n\n\n\nIs traveling to France on your bucket list? What better way to prepare for your adventure equipped with a background in the language? In this course\, I will share vocabulary and expressions which have been useful in my nine trips to France. Students will also be able to acquire information on personal and future group travel opportunities. Includes Duolingo instruction to reinforce studies at home. Class Dates: March 10\, 17\, 31\, April 7\, 14.
X-ALT-DESC;FMTTYPE=text/html:Instructor: &nbsp\;Deb Sutor<br />\nClass #3307-WS16<br />\n<br />\n<span style="background-color:rgb(255\, 255\, 255)\; font-family:arial\,sans\,sans-serif\; font-size:13px">Is traveling to France on your bucket list? What better way to prepare for your adventure equipped with a background in the language? In this course\, I will share vocabulary and expressions which have been useful in my nine trips to France. Students will also be able to acquire information on personal and future group travel opportunities. Includes Duolingo instruction to reinforce studies at home. Class Dates: March 10\, 17\, 31\, April 7\, 14.</span>
LOCATION:Kennedy Secondary School: Room 2618
UID:e.314.24149
SEQUENCE:3
DTSTAMP:20260425T195921Z
URL:https://business.fergusfalls.com/events/details/pre-register-for-conversational-french-03-10-2016-24149
END:VEVENT

END:VCALENDAR
