BEGIN:VCALENDAR
VERSION:2.0
PRODID:-//ChamberMaster//Event Calendar 2.0//EN
METHOD:PUBLISH
X-PUBLISHED-TTL:P3D
REFRESH-INTERVAL:P3D
CALSCALE:GREGORIAN
BEGIN:VEVENT
DTSTART:20170502T230000Z
DTEND:20170503T003000Z
X-MICROSOFT-CDO-ALLDAYEVENT:FALSE
SUMMARY:Pre-Register Soups-ASN
DESCRIPTION:Instructor:  Suzy Hames\n\nClass #3200-WS17\n\n\n\nAdults in this class are doing much more than preparing food. They are also developing their independence! In this class\, they will learn cooking skills\, and after they finish\, the best part is eating what they've made.
X-ALT-DESC;FMTTYPE=text/html:Instructor: &nbsp\;Suzy Hames<br />\nClass #3200-WS17<br />\n<br />\nAdults in this class are doing much more than preparing food. They are also developing their independence! In this class\, they will learn cooking skills\, and after they finish\, the best part is eating what they&#39\;ve made.
LOCATION:Kennedy Secondary School\, Room 2614
UID:e.314.25959
SEQUENCE:3
DTSTAMP:20260424T174637Z
URL:https://business.fergusfalls.com/events/details/pre-register-for-cooking-baking-holiday-cookies-asn-12-07-2015-25959
END:VEVENT

END:VCALENDAR
