BEGIN:VCALENDAR
VERSION:2.0
PRODID:-//ChamberMaster//Event Calendar 2.0//EN
METHOD:PUBLISH
X-PUBLISHED-TTL:P3D
REFRESH-INTERVAL:P3D
CALSCALE:GREGORIAN
BEGIN:VEVENT
DTSTART:20180213T003000Z
DTEND:20180213T020000Z
X-MICROSOFT-CDO-ALLDAYEVENT:FALSE
SUMMARY:Pre-Register for Coupon Workshop 101
DESCRIPTION:Class #3016-WS18\n\nInstructor: Carla Thiele\n\n\n\nSave money on groceries\, household and personal care products. With an estimated $360 billion worth of coupons floating around\, there are plenty to help you reduce your monthly shopping bill. This class will cover what newspapers to purchase\, how to organize coupons\, what coupons to keep\, and what websites to follow. You will learn about rolling and stacking\, the best times to shop and what to do when a store will not honor your coupons. Become a savvy shopper and save hundreds of dollars a month. Instructor was featured on TLC's Extreme Couponing season premier.
X-ALT-DESC;FMTTYPE=text/html:Class #3016-WS18<br />\nInstructor: Carla Thiele<br />\n<br />\nSave money on groceries\, household and personal care products. With an estimated $360 billion worth of coupons floating around\, there are plenty to help you reduce your monthly shopping bill. This class will cover what newspapers to purchase\, how to organize coupons\, what coupons to keep\, and what websites to follow. You will learn about rolling and stacking\, the best times to shop and what to do when a store will not honor your coupons. Become a savvy shopper and save hundreds of dollars a month. Instructor was featured on TLC&#39\;s Extreme Couponing season premier.
LOCATION:Kennedy Secondary School - Media Center\, 601 Randolph Ave.\, Fergus Falls
UID:e.314.35859
SEQUENCE:3
DTSTAMP:20260424T025034Z
URL:https://business.fergusfalls.com/events/details/pre-register-for-coupon-workshop-101-35859
END:VEVENT

END:VCALENDAR
