BEGIN:VCALENDAR
VERSION:2.0
PRODID:-//ChamberMaster//Event Calendar 2.0//EN
METHOD:PUBLISH
X-PUBLISHED-TTL:P3D
REFRESH-INTERVAL:P3D
CALSCALE:GREGORIAN
BEGIN:VEVENT
DTSTART:20191023T230000Z
DTEND:20191024T000000Z
X-MICROSOFT-CDO-ALLDAYEVENT:FALSE
SUMMARY:Pre-Register for Photoshop
DESCRIPTION:Class #5112-F17\n\nInstructor: Jane Geisinger\n\n\n\nPhotoshop is an advanced image editing program that gives you everything you need to create fantastic photos for print or use on the internet. Manipulate colors\, add special effects\, and alter or combine pictures to turn them into great photos to keep or share. Bring to class a USB drive with several photos on it and a laptop computer\, if you have one. Class Dates: Oct. 23\, 30\, Nov. 6 - 6:00 p.m. to 7:00 p.m.
X-ALT-DESC;FMTTYPE=text/html:Class #5112-F17<br />\nInstructor: Jane Geisinger<br />\n<br />\n<span style="background-color:rgb(255\, 255\, 255)\; font-family:arial\,sans\,sans-serif\; font-size:13px">Photoshop is an advanced image editing program that gives you everything you need to create fantastic photos for print or use on the internet. Manipulate colors\, add special effects\, and alter or combine pictures to turn them into great photos to keep or share. Bring to class a USB drive with several photos on it and a laptop computer\, if you have one. Class Dates: Oct. 23\, 30\, Nov. 6 - 6:00 p.m. to 7:00 p.m.</span>
LOCATION:Kennedy Secondary School - Room 2804\, 601 Randolph Ave.\, Fergus Falls\, MN
UID:e.314.24099
SEQUENCE:3
DTSTAMP:20260422T222216Z
URL:https://business.fergusfalls.com/events/details/pre-register-for-digital-photo-editing-02-10-2016-24099
END:VEVENT

END:VCALENDAR
