BEGIN:VCALENDAR
VERSION:2.0
PRODID:-//ChamberMaster//Event Calendar 2.0//EN
METHOD:PUBLISH
X-PUBLISHED-TTL:P3D
REFRESH-INTERVAL:P3D
CALSCALE:GREGORIAN
BEGIN:VEVENT
DTSTART:20190219T000000Z
DTEND:20190219T030000Z
X-MICROSOFT-CDO-ALLDAYEVENT:FALSE
SUMMARY:Pre-Register for Drone Certification Prep
DESCRIPTION:Class #2007-WS19\n\nInstructor:  Seth Simonson\n\n\n\nInterested in becoming an FAA certified drone pilot? This class will give you the vital information and tips to help you prepare for and pass the FAA exam. This course is meant to help with preparation\, so additional studying will have to be done on your own outside of this class. The FAA exam can be taken in Fargo at a cost of $150.00. Class Dates:  February 4\, 11\, 25 - 6:00 p.m. to 9:00 p.m.
X-ALT-DESC;FMTTYPE=text/html:Class #2007-WS19<br />\nInstructor:&nbsp\; Seth Simonson<br />\n<br />\nInterested in becoming an FAA certified drone pilot? This class will give you the vital information and tips to help you prepare for and pass the FAA exam. This course is meant to help with preparation\, so additional studying will have to be done on your own outside of this class. The FAA exam can be taken in Fargo at a cost of $150.00. Class Dates:&nbsp\; February 4\, 11\, 25 - 6:00 p.m. to 9:00 p.m.
LOCATION:Roosevelt Education Center - Community Education\, 340 Friberg Ave.\, Fergus Falls
UID:e.314.52438
SEQUENCE:3
DTSTAMP:20260423T093055Z
URL:https://business.fergusfalls.com/events/details/pre-register-for-drone-certification-prep-02-18-2019-52438
END:VEVENT

END:VCALENDAR
