BEGIN:VCALENDAR
VERSION:2.0
PRODID:-//ChamberMaster//Event Calendar 2.0//EN
METHOD:PUBLISH
X-PUBLISHED-TTL:P3D
REFRESH-INTERVAL:P3D
CALSCALE:GREGORIAN
BEGIN:VEVENT
DTSTART:20191015T230000Z
DTEND:20191016T013000Z
X-MICROSOFT-CDO-ALLDAYEVENT:FALSE
SUMMARY:Pre-Register for Easy Meatless Meals
DESCRIPTION:Class #3256-F19\n\nInstructor:  Jan Werkau\n\n\n\nJoin the meatless revolution that some call "Meatless Monday" or simply explore non-meat-based meals that you can add to your recipe collection. With Chef Jan Werkau's insight into coaxing the most flavor out of her ingredients\, you'll never miss the meat. From burgers to noodles\, you'll learn to prepare a variety of easy dinner options - some of the recipes we prepare will include eggs or cheese\; some will be strictly plant-based and vegan-friendly. Class fee includes supplies.
X-ALT-DESC;FMTTYPE=text/html:Class #3256-F19<br />\nInstructor:&nbsp\; Jan Werkau<br />\n<br />\nJoin the meatless revolution that some call &quot\;Meatless Monday&quot\; or simply explore non-meat-based meals that you can add to your recipe collection. With Chef Jan Werkau&#39\;s insight into coaxing the most flavor out of her ingredients\, you&#39\;ll never miss the meat. From burgers to noodles\, you&#39\;ll learn to prepare a variety of easy dinner options - some of the recipes we prepare will include eggs or cheese\; some will be strictly plant-based and vegan-friendly. Class fee includes supplies.
LOCATION:Kennedy Secondary School - Room 1603\, 601 Randolph Ave.\, Fergus Falls\, MN
UID:e.314.54680
SEQUENCE:3
DTSTAMP:20260422T221732Z
URL:https://business.fergusfalls.com/events/details/pre-register-for-easy-meatless-meals-54680
END:VEVENT

END:VCALENDAR
