BEGIN:VCALENDAR
VERSION:2.0
PRODID:-//ChamberMaster//Event Calendar 2.0//EN
METHOD:PUBLISH
X-PUBLISHED-TTL:P3D
REFRESH-INTERVAL:P3D
CALSCALE:GREGORIAN
BEGIN:VEVENT
DTSTART:20200122T000000Z
DTEND:20200122T013000Z
X-MICROSOFT-CDO-ALLDAYEVENT:FALSE
SUMMARY:Pre-Register for Easy Weeknight Supper
DESCRIPTION:Instructor:  Scott Meldahl\n\nClass #3233-WS20\n\n\n\nBusy nights with activities and life in general? Let's throw together some easy 30-minute or less dinners that are filling\, tasty AND easy! We will cook and eat together. Supply fee of $10 payable to the instructor on the day of class.
X-ALT-DESC;FMTTYPE=text/html:Instructor:&nbsp\; Scott Meldahl<br />\nClass #3233-WS20<br />\n<br />\nBusy nights with activities and life in general? Let&#39\;s throw together some easy 30-minute or less dinners that are filling\, tasty AND easy! We will cook and eat together. Supply fee of $10 payable to the instructor on the day of class.
LOCATION:Kennedy Secondary School - Room 1603\, 601 Randolph Ave.\, Fergus Falls\, MN
UID:e.314.56069
SEQUENCE:3
DTSTAMP:20260422T171745Z
URL:https://business.fergusfalls.com/events/details/pre-register-for-easy-weeknight-supper-56069
END:VEVENT

END:VCALENDAR
