BEGIN:VCALENDAR
VERSION:2.0
PRODID:-//ChamberMaster//Event Calendar 2.0//EN
METHOD:PUBLISH
X-PUBLISHED-TTL:P3D
REFRESH-INTERVAL:P3D
CALSCALE:GREGORIAN
BEGIN:VEVENT
DTSTART:20151111T003000Z
DTEND:20151118T020000Z
X-MICROSOFT-CDO-ALLDAYEVENT:FALSE
SUMMARY:Pre-Register for Essential Oils
DESCRIPTION:Instructor: Kaitlin Moen\n\nClass #3600-F15\n\n\n\nEssential oils have been used for thousands of years for their health\, cosmetic\, and emotionally uplifting properties. This ancient tradition has recently experienced a comeback. Come and learn what oils are all about and how they connect to mind and body wellness. Class is highly interactive\, covering many different modes of application and usage to maintain a healthy lifestyle. $10 material fee paid to instructor. Class Dates: November 10\, 17
X-ALT-DESC;FMTTYPE=text/html:Instructor: Kaitlin Moen<br />\nClass #3600-F15<br />\n<br />\n<span style="font-family: arial\,sans\,sans-serif\; font-size: 100%\;">Essential oils have been used for thousands of years for their health\, cosmetic\, and emotionally uplifting properties. This ancient tradition has recently experienced a comeback. Come and learn what oils are all about and how they connect to mind and body wellness. Class is highly interactive\, covering many different modes of application and usage to maintain a healthy lifestyle. $10 material fee paid to instructor. Class Dates: November 10\, 17</span>
LOCATION:Roosevelt Education Center: Community Education\, 340 Friberg Avenue
UID:e.314.24442
SEQUENCE:3
DTSTAMP:20260426T011110Z
URL:https://business.fergusfalls.com/events/details/pre-register-for-essential-oils-11-10-2015-24442
END:VEVENT

END:VCALENDAR
