BEGIN:VCALENDAR
VERSION:2.0
PRODID:-//ChamberMaster//Event Calendar 2.0//EN
METHOD:PUBLISH
X-PUBLISHED-TTL:P3D
REFRESH-INTERVAL:P3D
CALSCALE:GREGORIAN
BEGIN:VEVENT
DTSTART:20200220T000000Z
DTEND:20200220T013000Z
X-MICROSOFT-CDO-ALLDAYEVENT:FALSE
SUMMARY:Pre-Register for Eucalyptus Wreath
DESCRIPTION:Class #3519-WS20\n\nInstructor:  Alisha Asleson\n\n\n\nKeep your home looking fresh with the addition of a beautiful eucalyptus wreath. In this hands-on class\, you will create a wreath to hang on a door or wall within your home.
X-ALT-DESC;FMTTYPE=text/html:Class #3519-WS20<br />\nInstructor:&nbsp\; Alisha Asleson<br />\n<br />\nKeep your home looking fresh with the addition of a beautiful eucalyptus wreath. In this hands-on class\, you will create a wreath to hang on a door or wall within your home.
LOCATION:Vocational Building - Room 104V\, Friberg Ave.\, Fergus Falls\, MN
UID:e.314.56071
SEQUENCE:3
DTSTAMP:20260422T142359Z
URL:https://business.fergusfalls.com/events/details/pre-register-for-eucalyptus-wreath-56071
END:VEVENT

END:VCALENDAR
