BEGIN:VCALENDAR
VERSION:2.0
PRODID:-//ChamberMaster//Event Calendar 2.0//EN
METHOD:PUBLISH
X-PUBLISHED-TTL:P3D
REFRESH-INTERVAL:P3D
CALSCALE:GREGORIAN
BEGIN:VEVENT
DTSTART:20170321T230000Z
DTEND:20170322T013000Z
X-MICROSOFT-CDO-ALLDAYEVENT:FALSE
SUMMARY:Pre-Register for Flavors of the East
DESCRIPTION:Class #3210-WS17\n\nInstructor: Jan Werkau\n\n\n\nJoin us in learning about the flavor profiles of Eastern cooking - Thai\, Chinese and Indian foods. We will discuss the importance of herbs\, spices and chilies in these cuisines and the differences amongst them\, as well as create and sample a few tasty dishes. Class fee of $10.00\, plus $10.00 supply fee paid to the instructor.
X-ALT-DESC;FMTTYPE=text/html:Class #3210-WS17<br />\nInstructor: Jan Werkau<br />\n<br />\nJoin us in learning about the flavor profiles of Eastern cooking - Thai\, Chinese and Indian foods. We will discuss the importance of herbs\, spices and chilies in these cuisines and the differences amongst them\, as well as create and sample a few tasty dishes. Class fee of $10.00\, plus $10.00 supply fee paid to the instructor.
LOCATION:Kennedy Secondary School - Room 1603
UID:e.314.38744
SEQUENCE:3
DTSTAMP:20260424T211629Z
URL:https://business.fergusfalls.com/events/details/pre-register-for-flavors-of-the-east-38744
END:VEVENT

END:VCALENDAR
