BEGIN:VCALENDAR
VERSION:2.0
PRODID:-//ChamberMaster//Event Calendar 2.0//EN
METHOD:PUBLISH
X-PUBLISHED-TTL:P3D
REFRESH-INTERVAL:P3D
CALSCALE:GREGORIAN
BEGIN:VEVENT
DTSTART:20180517T213000Z
DTEND:20180518T013000Z
X-MICROSOFT-CDO-ALLDAYEVENT:FALSE
SUMMARY:Pre-Register for Food Manager's Certificate Refresher
DESCRIPTION:Class #3176A-WS18\n\nInstructor: Nicholas Aune\n\n\n\nThis refresher program is designed for managers\, chefs\, owners and others with supervisory responsibility in the food industry who have already had previous training. Training will cover\; hygiene\, foodborne illness\, receiving\, storing\, preparing and serving food\, safety regulations and more. Books and testing are included in the fee. All students to bring a pencil.
X-ALT-DESC;FMTTYPE=text/html:Class #3176A-WS18<br />\nInstructor: Nicholas Aune<br />\n<br />\nThis refresher program is designed for managers\, chefs\, owners and others with supervisory responsibility in the food industry who have already had previous training. Training will cover\; hygiene\, foodborne illness\, receiving\, storing\, preparing and serving food\, safety regulations and more. Books and testing are included in the fee. All students to bring a pencil.
LOCATION:Roosevelt Education Center\, Community Education\, 340 Friberg Avenue\, Fergus Falls
UID:e.314.35813
SEQUENCE:3
DTSTAMP:20260423T225139Z
URL:https://business.fergusfalls.com/events/details/pre-register-for-food-manager-s-certificate-refresher-10-28-2016-35813
END:VEVENT

END:VCALENDAR
