BEGIN:VCALENDAR
VERSION:2.0
PRODID:-//ChamberMaster//Event Calendar 2.0//EN
METHOD:PUBLISH
X-PUBLISHED-TTL:P3D
REFRESH-INTERVAL:P3D
CALSCALE:GREGORIAN
BEGIN:VEVENT
DTSTART:20200222T000000Z
DTEND:20200222T023000Z
X-MICROSOFT-CDO-ALLDAYEVENT:FALSE
SUMMARY:Pre-Register for Jersey Party (ASN)
DESCRIPTION:Class #2003-WS20\n\nInstructor:  Janet Grulke\n\n\n\nThis is the #1 football party for Adults with Disabilities. Come and be a part of it. Stay active and have a whole lot of fun! Wear your favorite team's jersey! Pre-registration is required for this event. Fee covers pizza and pop.
X-ALT-DESC;FMTTYPE=text/html:Class #2003-WS20<br />\nInstructor:&nbsp\; Janet Grulke<br />\n<br />\nThis is the #1 football party for Adults with Disabilities. Come and be a part of it. Stay active and have a whole lot of fun! Wear your favorite team&#39\;s jersey! Pre-registration is required for this event. Fee covers pizza and pop.
LOCATION:Kennedy Secondary School - Cafeteria\, 601 Randolph Ave.\, Fergus Falls
UID:e.314.52280
SEQUENCE:3
DTSTAMP:20260422T143145Z
URL:https://business.fergusfalls.com/events/details/pre-register-for-football-pre-party-asn-52280
END:VEVENT

END:VCALENDAR
