BEGIN:VCALENDAR
VERSION:2.0
PRODID:-//ChamberMaster//Event Calendar 2.0//EN
METHOD:PUBLISH
X-PUBLISHED-TTL:P3D
REFRESH-INTERVAL:P3D
CALSCALE:GREGORIAN
BEGIN:VEVENT
DTSTART:20170504T230000Z
DTEND:20170505T013000Z
X-MICROSOFT-CDO-ALLDAYEVENT:FALSE
SUMMARY:Pre-Register for Get Your Grill On
DESCRIPTION:Class #3212-WS17\n\nInstructor: Jan Werkau\n\n\n\nLearn to grill with abandon and confidence. We will grill all sorts of things - burgers\, steaks\, pork chops\, veggies\, bread...even pizza and lettuce? We will discuss marinades and rubs\, the method for getting those perfect grill marks and one way to avoid the dreaded overcooked chicken breast. You will learn one simple trick for getting perfectly grilled steaks at the right temperature every time with no thermometer necessary. This class is BYOC (Bring Your Own (Lawn) Chair). We will be grilling in the parking lot. Class fee is $10.00\, plus tasting fee of $12.00 paid to instructor.
X-ALT-DESC;FMTTYPE=text/html:Class #3212-WS17<br />\nInstructor: Jan Werkau<br />\n<br />\nLearn to grill with abandon and confidence. We will grill all sorts of things - burgers\, steaks\, pork chops\, veggies\, bread...even pizza and lettuce? We will discuss marinades and rubs\, the method for getting those perfect grill marks and one way to avoid the dreaded overcooked chicken breast. You will learn one simple trick for getting perfectly grilled steaks at the right temperature every time with no thermometer necessary. This class is BYOC (Bring Your Own (Lawn) Chair). We will be grilling in the parking lot. Class fee is $10.00\, plus tasting fee of $12.00 paid to instructor.
LOCATION:Kennedy Secondary School - Room 1603
UID:e.314.38954
SEQUENCE:3
DTSTAMP:20260424T191844Z
URL:https://business.fergusfalls.com/events/details/pre-register-for-get-your-grill-on-38954
END:VEVENT

END:VCALENDAR
