BEGIN:VCALENDAR
VERSION:2.0
PRODID:-//ChamberMaster//Event Calendar 2.0//EN
METHOD:PUBLISH
X-PUBLISHED-TTL:P3D
REFRESH-INTERVAL:P3D
CALSCALE:GREGORIAN
BEGIN:VEVENT
DTSTART:20181127T000000Z
DTEND:20181127T010000Z
X-MICROSOFT-CDO-ALLDAYEVENT:FALSE
SUMMARY:Pre-Register for Gold Regiment Drum Line
DESCRIPTION:Class #2001-F18\n\nInstructors: Scott Kummrow & Jesse Thorstad\n\n\n\nWelcome to a percussion ensemble called the Gold Regiment Drum Line. This group is for people with special needs who are dedicated to music and performance. You will learn to read music\, play percussion instruments and create a wonderful team spirit. Participants will receive drum sticks and a practice pad for home practice. Participants should have a caregiver accompany them to the first class. Class Dates:  Oct. 1\, 8\, 15\, Nov. 12\, 26.
X-ALT-DESC;FMTTYPE=text/html:Class #2001-F18<br />\nInstructors: Scott Kummrow &amp\; Jesse Thorstad<br />\n<br />\nWelcome to a percussion ensemble called the Gold Regiment Drum Line. This group is for people with special needs who are dedicated to music and performance. You will learn to read music\, play percussion instruments and create a wonderful team spirit. Participants will receive drum sticks and a practice pad for home practice. Participants should have a caregiver accompany them to the first class. Class Dates:&nbsp\; Oct. 1\, 8\, 15\, Nov. 12\, 26.
LOCATION:Kennedy Secondary School - Band Room\, 601 Randolph Ave.\, Fergus Falls
UID:e.314.50488
SEQUENCE:3
DTSTAMP:20260423T150846Z
URL:https://business.fergusfalls.com/events/details/pre-register-for-gold-regiment-drum-line-11-26-2018-50488
END:VEVENT

END:VCALENDAR
